BEGIN:VCALENDAR
VERSION:2.0
PRODID:-//STRAWANZERIN - ECPv4.9.5//NONSGML v1.0//EN
CALSCALE:GREGORIAN
METHOD:PUBLISH
X-WR-CALNAME:STRAWANZERIN
X-ORIGINAL-URL:https://www.strawanzerin.at
X-WR-CALDESC:Veranstaltungen im STRAWANZERIN
BEGIN:VTIMEZONE
TZID:"Europe/Vienna"
BEGIN:DAYLIGHT
TZOFFSETFROM:+0100
TZOFFSETTO:+0200
TZNAME:CEST
DTSTART:20210328T010000
END:DAYLIGHT
BEGIN:STANDARD
TZOFFSETFROM:+0200
TZOFFSETTO:+0100
TZNAME:CET
DTSTART:20211031T010000
END:STANDARD
END:VTIMEZONE
BEGIN:VEVENT
DTSTART;TZID="Europe/Vienna":20211014T193000
DTEND;TZID="Europe/Vienna":20211014T210000
DTSTAMP:20260420T154631
CREATED:20211011T144255Z
LAST-MODIFIED:20211013T062825Z
UID:81086-1634239800-1634245200@www.strawanzerin.at
SUMMARY:Lyriklesung mit Peter Clar\, Peter M. Huemer und Simon Konttas
DESCRIPTION:Peter Clar\, Peter Marius Huemer und Simon Konttas lesen Lyrik. Durch den Abend führt Dietmar Koschier. Ein vielfältiger\, intimer Abend im Kulturcafé Avalon\, in der Pfeilgasse 27\, 1080 Wien. \n
URL:https://www.strawanzerin.at/termin/lyriklesung-mit-peter-clar-peter-m-huemer-und-simon-konttas/
LOCATION:Kulturcafé AVALON\, Pfeilgasse 27\, Wien\, Wien\, 1080\, Österreich
CATEGORIES:Gratis,Literatur
ATTACH;FMTTYPE=image/png:https://www.strawanzerin.at/wp-content/uploads/2021/10/Werbephoto-Lesung-20.10.2020.png
END:VEVENT
END:VCALENDAR