BEGIN:VCALENDAR
VERSION:2.0
PRODID:-//STRAWANZERIN - ECPv4.9.5//NONSGML v1.0//EN
CALSCALE:GREGORIAN
METHOD:PUBLISH
X-WR-CALNAME:STRAWANZERIN
X-ORIGINAL-URL:https://www.strawanzerin.at
X-WR-CALDESC:Veranstaltungen im STRAWANZERIN
BEGIN:VTIMEZONE
TZID:"Europe/Vienna"
BEGIN:DAYLIGHT
TZOFFSETFROM:+0100
TZOFFSETTO:+0200
TZNAME:CEST
DTSTART:20200329T010000
END:DAYLIGHT
BEGIN:STANDARD
TZOFFSETFROM:+0200
TZOFFSETTO:+0100
TZNAME:CET
DTSTART:20201025T010000
END:STANDARD
END:VTIMEZONE
BEGIN:VEVENT
DTSTART;TZID="Europe/Vienna":20200820T200000
DTEND;TZID="Europe/Vienna":20200917T223000
DTSTAMP:20260420T070421
CREATED:20200709T184329Z
LAST-MODIFIED:20200724T090129Z
UID:74555-1597953600-1600381800@www.strawanzerin.at
SUMMARY:Märchenhaftes in Wort und Bild und ein Frauenroman\, garniert mit Musik!
DESCRIPTION:Elena Terziyska (Eleis) „Bilder zur Märchenstunde“ – Malerei\nFranziska Bauer „Märchenstunde für Kinder und Erwachsene“ – Lyrik und Prosa\nAnka Mairose „In einer Brigittenauer Gemeindewohnung“ –\naus dem Roman „Das erste der letzten zehn“ Wolfgang SOL Schaffer – Gesang & Gitarre\nAusstellung bis 17. September 2020 täglich ab 11 Uhr bei freiem Eintritt. \n
URL:https://www.strawanzerin.at/termin/maerchenhaftes-in-wort-und-bild-und-ein-frauenroman-garniert-mit-musik/
LOCATION:Osteria Allora\, Wallensteinplatz 5-6\, Wien\, Wien\, 1200\, Österreich
CATEGORIES:Ausstellung,Deutsch,Gratis,Kunst/Kultur,Literatur,Musik,Wien
ATTACH;FMTTYPE=image/jpeg:https://www.strawanzerin.at/wp-content/uploads/2020/07/2020_08_20-Vernissage-Lesung-Musik.jpg
ORGANIZER;CN="Ursula%20Pfeiffer%20verein%20%3A%3Akunst-projekte%3A%3A%20der%20%5Bgalerie%5Dstudio38%20zvr%20123612155":MAILTO:office@galeriestudio38.at
GEO:48.2295781;16.3715666
X-APPLE-STRUCTURED-LOCATION;VALUE=URI;X-ADDRESS=Osteria Allora Wallensteinplatz 5-6 Wien Wien 1200 Österreich;X-APPLE-RADIUS=500;X-TITLE=Wallensteinplatz 5-6:geo:16.3715666,48.2295781
END:VEVENT
END:VCALENDAR