BEGIN:VCALENDAR
VERSION:2.0
PRODID:-//STRAWANZERIN - ECPv4.9.5//NONSGML v1.0//EN
CALSCALE:GREGORIAN
METHOD:PUBLISH
X-WR-CALNAME:STRAWANZERIN
X-ORIGINAL-URL:https://www.strawanzerin.at
X-WR-CALDESC:Veranstaltungen im STRAWANZERIN
BEGIN:VTIMEZONE
TZID:"Europe/Vienna"
BEGIN:DAYLIGHT
TZOFFSETFROM:+0100
TZOFFSETTO:+0200
TZNAME:CEST
DTSTART:20200329T010000
END:DAYLIGHT
BEGIN:STANDARD
TZOFFSETFROM:+0200
TZOFFSETTO:+0100
TZNAME:CET
DTSTART:20201025T010000
END:STANDARD
END:VTIMEZONE
BEGIN:VEVENT
DTSTART;TZID="Europe/Vienna":20200824T090000
DTEND;TZID="Europe/Vienna":20200824T123000
DTSTAMP:20260419T121030
CREATED:20200722T150358Z
LAST-MODIFIED:20200724T090804Z
UID:74642-1598259600-1598272200@www.strawanzerin.at
SUMMARY:MANEGE FREI!
DESCRIPTION:Ein Zirkustheaterprojekt für Kinder \nBalancieren wie Seiltänzer*innen\, klettern wie die Affen und das Publikum zum Lachen bringen\, wie ein echter Clown.\nZeigt was ihr könnt! Erfindet eure eigenen Geschichten!\nJede*r spielt eine Rolle und jede Rolle ist bedeutend.\nZum Abschluss heißt es für die jungen Zirkuskünstler*innen: MANEGE FREI! \nEin Projekt für Kinder zwischen 8 und 12 Jahren \nProjektwoche: 24.-28.08.2020\nJeweils:  9:00 – 12:30 Uhr \n
URL:https://www.strawanzerin.at/termin/manege-frei/
LOCATION:1150 Wien\, Treffpunkt wird bei Anmeldung mitgeteilt
CATEGORIES:Workshop
ATTACH;FMTTYPE=image/jpeg:https://www.strawanzerin.at/wp-content/uploads/2020/07/Cubes-umrahmt-1.jpg
END:VEVENT
END:VCALENDAR