BEGIN:VCALENDAR
VERSION:2.0
PRODID:-//STRAWANZERIN - ECPv4.9.5//NONSGML v1.0//EN
CALSCALE:GREGORIAN
METHOD:PUBLISH
X-WR-CALNAME:STRAWANZERIN
X-ORIGINAL-URL:https://www.strawanzerin.at
X-WR-CALDESC:Veranstaltungen im STRAWANZERIN
BEGIN:VTIMEZONE
TZID:"Europe/Vienna"
BEGIN:DAYLIGHT
TZOFFSETFROM:+0100
TZOFFSETTO:+0200
TZNAME:CEST
DTSTART:20170326T010000
END:DAYLIGHT
BEGIN:STANDARD
TZOFFSETFROM:+0200
TZOFFSETTO:+0100
TZNAME:CET
DTSTART:20171029T010000
END:STANDARD
END:VTIMEZONE
BEGIN:VEVENT
DTSTART;TZID="Europe/Vienna":20170916T190000
DTEND;TZID="Europe/Vienna":20170916T210000
DTSTAMP:20260422T025241
CREATED:20170821T154405Z
LAST-MODIFIED:20170823T101910Z
UID:46051-1505588400-1505595600@www.strawanzerin.at
SUMMARY:Manfred Schluderbacher: Malerei
DESCRIPTION:Manfred Schluderbacher ist nicht nur Künstler\, sondern auch Architekt. Oder umgekehrt: Schluderbacher ist Architekt\, und beschäftigt sich als Künstler auch mit Abstrakter Malerei. Nun basiert gerade die Architektur auf einem starken technischen Gerüst\, orientiert sich an Zahlen und physikalischen Gegebenheiten. Betrachtet man hingegen Schluderbachers künstlerisches Werk\, findet man dort das genaue Gegenteil: seine Bilder wirken wie ein endloses Eintauchen ins Weltall. Sie führen in einen Raum\, der nie aufzuhören und in dem alles möglich scheint. \nEröffnung: 16. September 2017\, 19 Uhr\nAusstellung: 17. September bis 22. Oktober 2017\nÖffnungszeiten: Mi-So\, 13-18 Uhr \n
URL:https://www.strawanzerin.at/termin/manfred-schluderbacher-malerei/
LOCATION:Raum für Kunst im Lindenhof\, Oberndorf 7\, Raabs an der Thaya\, Niederösterreich\, 3820\, Österreich
ATTACH;FMTTYPE=image/jpeg:https://www.strawanzerin.at/wp-content/uploads/2017/08/ManfredSchluderbacher_s.jpg
ORGANIZER;CN="Galerien%20Thayaland":MAILTO:franzpart9@gmail.com
GEO:48.8481778;15.4859873
X-APPLE-STRUCTURED-LOCATION;VALUE=URI;X-ADDRESS=Raum für Kunst im Lindenhof Oberndorf 7 Raabs an der Thaya Niederösterreich 3820 Österreich;X-APPLE-RADIUS=500;X-TITLE=Oberndorf 7:geo:15.4859873,48.8481778
END:VEVENT
END:VCALENDAR