BEGIN:VCALENDAR
VERSION:2.0
PRODID:-//STRAWANZERIN - ECPv4.9.5//NONSGML v1.0//EN
CALSCALE:GREGORIAN
METHOD:PUBLISH
X-WR-CALNAME:STRAWANZERIN
X-ORIGINAL-URL:https://www.strawanzerin.at
X-WR-CALDESC:Veranstaltungen im STRAWANZERIN
BEGIN:VTIMEZONE
TZID:"Europe/Vienna"
BEGIN:DAYLIGHT
TZOFFSETFROM:+0100
TZOFFSETTO:+0200
TZNAME:CEST
DTSTART:20250330T010000
END:DAYLIGHT
BEGIN:STANDARD
TZOFFSETFROM:+0200
TZOFFSETTO:+0100
TZNAME:CET
DTSTART:20251026T010000
END:STANDARD
END:VTIMEZONE
BEGIN:VEVENT
DTSTART;TZID="Europe/Vienna":20250727T093000
DTEND;TZID="Europe/Vienna":20250727T120000
DTSTAMP:20260421T212437
CREATED:20250612T102623Z
LAST-MODIFIED:20250612T102623Z
UID:108211-1753608600-1753617600@www.strawanzerin.at
SUMMARY:Margarete Schütte-Lihotzky und die Siedlerbewegung
DESCRIPTION:Als Studentin bereits mit dem Thema „Arbeiterwohnungen“ konfrontiert\, brilliert die Architektin Margarete Lihotzky (1897-2000) bald mit durchdachten Lösungen für die Wohnungskrise. Soziales Engagement\, rationale Analyse\, qualitätvolle Gestaltung charakterisieren ihre Arbeit. Bei der Friedensstadt ist sie Mitarbeiterin von Adolf Loos. Als Josef Frank sie einlädt\, Reihenhäuser für die Werkbundsiedlung zu planen\, arbeitet sie gerade als Expertin für „Typisierung im Wohnbau“ am Bauprogramm der Stadt Frankfurt mit. \n
URL:https://www.strawanzerin.at/termin/margarete-schuette-lihotzky-und-die-siedlerbewegung/2025-07-27/
LOCATION:Haltestelle Jenbachgasse (Bus 56B)\, bei Hermesstraße 36F\, Haltestelle Jenbachgasse (Bus 56B)\, bei Hermesstraße 36F\, wien\, Wien\, 1140\, Österreich
CATEGORIES:Kunst/Kultur,Wien
ATTACH;FMTTYPE=image/jpeg:https://www.strawanzerin.at/wp-content/uploads/2025/06/MSLSiedlerbewegung.jpg
ORGANIZER;CN="architektur%20f%C3%BChrungen%20wien":MAILTO:v.pandurevic@atours-vienna.com
END:VEVENT
END:VCALENDAR