BEGIN:VCALENDAR
VERSION:2.0
PRODID:-//STRAWANZERIN - ECPv4.9.5//NONSGML v1.0//EN
CALSCALE:GREGORIAN
METHOD:PUBLISH
X-WR-CALNAME:STRAWANZERIN
X-ORIGINAL-URL:https://www.strawanzerin.at
X-WR-CALDESC:Veranstaltungen im STRAWANZERIN
BEGIN:VTIMEZONE
TZID:"Europe/Vienna"
BEGIN:DAYLIGHT
TZOFFSETFROM:+0100
TZOFFSETTO:+0200
TZNAME:CEST
DTSTART:20260329T010000
END:DAYLIGHT
BEGIN:STANDARD
TZOFFSETFROM:+0200
TZOFFSETTO:+0100
TZNAME:CET
DTSTART:20261025T010000
END:STANDARD
END:VTIMEZONE
BEGIN:VEVENT
DTSTART;TZID="Europe/Vienna":20260313T170000
DTEND;TZID="Europe/Vienna":20260313T210000
DTSTAMP:20260421T212607
CREATED:20260219T100016Z
LAST-MODIFIED:20260219T100016Z
UID:112636-1773421200-1773435600@www.strawanzerin.at
SUMMARY:marhaba مرحبا im brut – mit IZRAA und Bisan Dabke hosted by Selin Baran im Rahmen der Academy of Unlearning von kulturen in bewegung
DESCRIPTION:marhaba مرحبا im brut ist ein Community-Event\, das arabische Kultur feiert und Raum für Begegnung\, Austausch und gemeinsames Erleben schafft. An diesem Abend widmen wir uns palästinensischer Kultur. Der Abend gliedert sich in zwei aufeinanderfolgende Teile: Bewegung und ein gemeinsames Essen im Anschluss. \nIm ersten Teil des Abends laden IZRAA und Bisan Dabke zu einer gemeinsamen Dabke-Session ein. Dabke ist ein traditioneller palästinensischer Gemeinschaftstanz\, der oft bei Festen und Zusammenkünften getanzt wird.\nIm zweiten Teil kommen wir bei einem Shared Dinner zusammen und laden dazu ein\, palästinensische und arabische Speisen zu kosten. Beim gemeinsamen Essen entsteht Raum und Zeit für Gespräche\, Austausch und entspanntes Beisammensein – ein Moment des Ankommens\, Teilens und Zusammenseins. \n
URL:https://www.strawanzerin.at/termin/marhaba-%d9%85%d8%b1%d8%ad%d8%a8%d8%a7-im-brut-mit-izraa-und-bisan-dabke-hosted-by-selin-baran-im-rahmen-der-academy-of-unlearning-von-kulturen-in-bewegung/
LOCATION:brut nordwest\, Nordwestbahnstraße 8-10\, Wien\, Wien\, 1200\, Österreich
CATEGORIES:freie Spende,Kunst/Kultur,Wien,Workshop
ATTACH;FMTTYPE=image/jpeg:https://www.strawanzerin.at/wp-content/uploads/2026/02/tickets_imagetanz-art-work_c_Robin-Lopvet_1140x640.jpg
ORGANIZER;CN="brut%20Wien":MAILTO:info@brut-wien.at
END:VEVENT
END:VCALENDAR