BEGIN:VCALENDAR
VERSION:2.0
PRODID:-//STRAWANZERIN - ECPv4.9.5//NONSGML v1.0//EN
CALSCALE:GREGORIAN
METHOD:PUBLISH
X-WR-CALNAME:STRAWANZERIN
X-ORIGINAL-URL:https://www.strawanzerin.at
X-WR-CALDESC:Veranstaltungen im STRAWANZERIN
BEGIN:VTIMEZONE
TZID:"Europe/Vienna"
BEGIN:DAYLIGHT
TZOFFSETFROM:+0100
TZOFFSETTO:+0200
TZNAME:CEST
DTSTART:20190331T010000
END:DAYLIGHT
BEGIN:STANDARD
TZOFFSETFROM:+0200
TZOFFSETTO:+0100
TZNAME:CET
DTSTART:20191027T010000
END:STANDARD
END:VTIMEZONE
BEGIN:VEVENT
DTSTART;TZID="Europe/Vienna":20190404T190000
DTEND;TZID="Europe/Vienna":20190404T211500
DTSTAMP:20260425T122606
CREATED:20190322T200429Z
LAST-MODIFIED:20190322T200443Z
UID:62939-1554404400-1554412500@www.strawanzerin.at
SUMMARY:Marionetten-Musical »Sisis Geheimnis« blickt tief in die Seele der berühmten Kaiserin
DESCRIPTION:Mit der jungen Musical-Sensation erweckt das Marionettentheater Schloss Schönbrunn die bewunderte Kaiserin zu neuem Leben. In dem von Regisseur Werner Hierzer\, Autor Martin Haidinger und Komponist Wasil Schneider geschaffenen Stück steht die Beziehung Sisis zu Franz Joseph im Mittelpunkt des kunstvollen Marionettenspiels. \nTel.: 01 817 32 47 \nBild: Kaiserin Sisi als kunstvoll gestaltete Marionette\, Foto/© Robin Weigelt \n
URL:https://www.strawanzerin.at/termin/marionetten-musical-sisis-geheimnis-blickt-tief-in-die-seele-der-beruehmten-kaiserin/2019-04-04/
LOCATION:Marionettentheater Schloss Schönbrunn\, Hofratstrakt\, 1130 Wien\, Wien\, 1130\, Österreich
CATEGORIES:ab 7,Kunst/Kultur,Theater/Kabarett,Wien
ATTACH;FMTTYPE=image/jpeg:https://www.strawanzerin.at/wp-content/uploads/2019/03/marionettentheater-schönbrunn-118-Kopie.jpg
GEO:48.185952;16.3159428
X-APPLE-STRUCTURED-LOCATION;VALUE=URI;X-ADDRESS=Marionettentheater Schloss Schönbrunn Hofratstrakt 1130 Wien Wien 1130 Österreich;X-APPLE-RADIUS=500;X-TITLE=Hofratstrakt\, 1130 Wien:geo:16.3159428,48.185952
END:VEVENT
END:VCALENDAR