BEGIN:VCALENDAR
VERSION:2.0
PRODID:-//STRAWANZERIN - ECPv4.9.5//NONSGML v1.0//EN
CALSCALE:GREGORIAN
METHOD:PUBLISH
X-WR-CALNAME:STRAWANZERIN
X-ORIGINAL-URL:https://www.strawanzerin.at
X-WR-CALDESC:Veranstaltungen im STRAWANZERIN
BEGIN:VTIMEZONE
TZID:"Europe/Vienna"
BEGIN:DAYLIGHT
TZOFFSETFROM:+0100
TZOFFSETTO:+0200
TZNAME:CEST
DTSTART:20180325T010000
END:DAYLIGHT
BEGIN:STANDARD
TZOFFSETFROM:+0200
TZOFFSETTO:+0100
TZNAME:CET
DTSTART:20181028T010000
END:STANDARD
END:VTIMEZONE
BEGIN:VEVENT
DTSTART;TZID="Europe/Vienna":20181105T183000
DTEND;TZID="Europe/Vienna":20181105T210000
DTSTAMP:20260420T161557
CREATED:20181030T134625Z
LAST-MODIFIED:20181102T084143Z
UID:60420-1541442600-1541451600@www.strawanzerin.at
SUMMARY:Marta Pajek - Kurzfilmscreening & Artist Talk
DESCRIPTION:Marta Pajek ist derzeit eine der international erfolgreichsten Animationsfilmkünstlerinnen. An diesem Abend präsentiert die Künstlerin persönlich Teil II und III ihres Triptychon „Impossible Figures and Other Stories“. Sie gibt Einblick in ihre Arbeitsweise\, ihr Konzept\, ihre Recherchen und Inspirationsquellen für den dritten Part des Projektes\, an dem sie aktuell arbeitet. \nAls Gewinnerin des„Q21 Artist in Residence Awards“ am Tricky Women Festival entwickelt sie noch bis Ende November im Museumsquartier ihr Storyboard für den neuen Film\, das auch erstmals zu sehen sein wird. \nDer Abend bietet die Möglichkeit mit dieser außergewöhnlichen Animationsfilmkünstlerin persönlich ins Gespräch zu kommen. \nEintritt frei. In englischer Sprache. \n
URL:https://www.strawanzerin.at/termin/marta-pajek-kurzfilmscreening-artist-talk/
LOCATION:Polnisches Institut\, Am Gestade 7\, Wien\, 1010\, Österreich
CATEGORIES:Englisch,Film,Gratis,Kunst/Kultur,Vortrag/Symposium,Wien
ATTACH;FMTTYPE=image/jpeg:https://www.strawanzerin.at/wp-content/uploads/2018/10/Impossible-Figures-and-other-stories-II_Website.jpg
ORGANIZER;CN="Tricky%20Women%20International%20Animation%20Filmfestival":MAILTO:office@trickywomen.at
END:VEVENT
END:VCALENDAR