BEGIN:VCALENDAR
VERSION:2.0
PRODID:-//STRAWANZERIN - ECPv4.9.5//NONSGML v1.0//EN
CALSCALE:GREGORIAN
METHOD:PUBLISH
X-WR-CALNAME:STRAWANZERIN
X-ORIGINAL-URL:https://www.strawanzerin.at
X-WR-CALDESC:Veranstaltungen im STRAWANZERIN
BEGIN:VTIMEZONE
TZID:"Europe/Vienna"
BEGIN:DAYLIGHT
TZOFFSETFROM:+0100
TZOFFSETTO:+0200
TZNAME:CEST
DTSTART:20180325T010000
END:DAYLIGHT
BEGIN:STANDARD
TZOFFSETFROM:+0200
TZOFFSETTO:+0100
TZNAME:CET
DTSTART:20181028T010000
END:STANDARD
END:VTIMEZONE
BEGIN:VEVENT
DTSTART;TZID="Europe/Vienna":20180623T190000
DTEND;TZID="Europe/Vienna":20180623T200000
DTSTAMP:20260422T043538
CREATED:20180528T082445Z
LAST-MODIFIED:20180528T082553Z
UID:56290-1529780400-1529784000@www.strawanzerin.at
SUMMARY:Martin Kitzler: Flüchtlingsstrom
DESCRIPTION:Ein Flüchtlingsstrom ist tägliche Realität. Die Darstellung eines Flüchtlingsstroms mit serienproduzierten Lego-Minifiguren gibt die Masse wieder\, die sich aus Einzelschicksalen zusammensetzt. Hinter der Banalität der Kunststofffiguren steckt die Komplexität der Flucht. \nDie Vergrößerung der Figuren als Schattenriß auf eine anthropomorphe Körpergröße macht diese für uns menschlicher und läßt uns emphatischer darauf reagieren. Nichtsdestoweniger entkommen die Figuren dabei nicht der Anonymität. \nPlatten mit den vergrößerten Kunststofffiguren lehnen beiläufig an den Wänden\, ohne wirklich ihren Platz im Raum gefunden zu haben. Sie scheinen als Fremdkörper im Weg zu stehen. \n
URL:https://www.strawanzerin.at/termin/martin-kitzler-fluechtlingsstrom/2018-06-23/
LOCATION:Galerie Lindenhof\, Oberndorf 7\, Raabs an der Thaya\, Niederösterreich\, 3820\, Österreich
CATEGORIES:Ausstellung
ATTACH;FMTTYPE=image/jpeg:https://www.strawanzerin.at/wp-content/uploads/2018/05/Plakat_Kitzler_web2.jpg
ORGANIZER;CN="Galerien%20Thayaland":MAILTO:franzpart9@gmail.com
GEO:48.8478001;15.4861098
X-APPLE-STRUCTURED-LOCATION;VALUE=URI;X-ADDRESS=Galerie Lindenhof Oberndorf 7 Raabs an der Thaya Niederösterreich 3820 Österreich;X-APPLE-RADIUS=500;X-TITLE=Oberndorf 7:geo:15.4861098,48.8478001
END:VEVENT
END:VCALENDAR