BEGIN:VCALENDAR
VERSION:2.0
PRODID:-//STRAWANZERIN - ECPv4.9.5//NONSGML v1.0//EN
CALSCALE:GREGORIAN
METHOD:PUBLISH
X-WR-CALNAME:STRAWANZERIN
X-ORIGINAL-URL:https://www.strawanzerin.at
X-WR-CALDESC:Veranstaltungen im STRAWANZERIN
BEGIN:VTIMEZONE
TZID:"Europe/Paris"
BEGIN:DAYLIGHT
TZOFFSETFROM:+0100
TZOFFSETTO:+0200
TZNAME:CEST
DTSTART:20150329T010000
END:DAYLIGHT
BEGIN:STANDARD
TZOFFSETFROM:+0200
TZOFFSETTO:+0100
TZNAME:CET
DTSTART:20151025T010000
END:STANDARD
END:VTIMEZONE
BEGIN:VEVENT
DTSTART;TZID="Europe/Paris":20150609T200000
DTEND;TZID="Europe/Paris":20150609T230000
DTSTAMP:20260423T175116
CREATED:20150416T101347Z
LAST-MODIFIED:20150416T160752Z
UID:13951-1433880000-1433890800@www.strawanzerin.at
SUMMARY:Martin Klein (Österreich)
DESCRIPTION:Der Falter schreibt: „Thom Yorke ohne Kunstrucksack und ein Maximilian Hecker ohne Elfenbeinturm“\, Der Standard: „sensible und obsessive Kunst“\, Music Information Center Austria: „gehört ohne Zweifel zu den hoffnungsvollsten Vertretern der heimischen Singer/Songwriter-Szene“\, FM4: „ein nicht nur musikalisch\, sondern auch menschlich beeindruckendes Werk“\, Jazzthetik: „traumverlorene kleine Meisterwerke“\, und terz.org: „Um’s kürzer zu machen: Klein bringt’s\, ist ganz groß.“\nDer Abend mit Martin Klein verspricht ein besonderer zu werden\, denn Klein ist ein unberechenbarer Künstler\, der sich nichts aus musikalischen Erwartungshaltungen oder Stilschubladen macht. 2013 veröffentlichte er das experimentelle Album „Tracks for My Keyboards“\, eine durchaus tanzbare Elektro-Platte. Diesmal wird Martin nicht nur seine akustische Singer/Songwriting Seite zeigen\, sondern erstmals live auch seine elektronisch-artifizielle. \nMartin Klein – Klavier\, Gesang\, Electronics\, Keyboard  \n
URL:https://www.strawanzerin.at/termin/martin-klein-oesterreich/
LOCATION:Sargfabrik\, Goldschlagstraße 169\, Wien\, Wien\, 1140\, Österreich
CATEGORIES:Deutsch,Eintrittspreis,Musik,Wien
ATTACH;FMTTYPE=image/jpeg:https://www.strawanzerin.at/wp-content/uploads/2015/04/KleinMartin_k_1506.jpg
GEO:48.1951903;16.3046279
X-APPLE-STRUCTURED-LOCATION;VALUE=URI;X-ADDRESS=Sargfabrik Goldschlagstraße 169 Wien Wien 1140 Österreich;X-APPLE-RADIUS=500;X-TITLE=Goldschlagstraße 169:geo:16.3046279,48.1951903
END:VEVENT
END:VCALENDAR