BEGIN:VCALENDAR
VERSION:2.0
PRODID:-//STRAWANZERIN - ECPv4.9.5//NONSGML v1.0//EN
CALSCALE:GREGORIAN
METHOD:PUBLISH
X-WR-CALNAME:STRAWANZERIN
X-ORIGINAL-URL:https://www.strawanzerin.at
X-WR-CALDESC:Veranstaltungen im STRAWANZERIN
BEGIN:VTIMEZONE
TZID:"Europe/Vienna"
BEGIN:DAYLIGHT
TZOFFSETFROM:+0100
TZOFFSETTO:+0200
TZNAME:CEST
DTSTART:20210328T010000
END:DAYLIGHT
BEGIN:STANDARD
TZOFFSETFROM:+0200
TZOFFSETTO:+0100
TZNAME:CET
DTSTART:20211031T010000
END:STANDARD
END:VTIMEZONE
BEGIN:VEVENT
DTSTART;VALUE=DATE:20210320
DTEND;VALUE=DATE:20210605
DTSTAMP:20260420T163324
CREATED:20210224T095411Z
LAST-MODIFIED:20210304T094826Z
UID:76447-1616212800-1622779199@www.strawanzerin.at
SUMMARY:Martina Gasser - "Was ist richtig? Was ist wichtig"
DESCRIPTION:Interaktive Schaufenster-Installation: Objekte\, Malerei (Acryl auf Holz) \nWas ist richtig und was ist wichtig? Das fragen sich Tschillie und Tschaki. \nFragen\, die wir uns alle immer wieder im Leben stellen\, besonders in schwierigen Lebensphasen und in so außergewöhnlichen Zeiten wie diesen\, in denen plötzlich eine Pandemie\, in Form eines neuen Virus\, über die ganze Welt hereinbricht und unser bisher gewohntes Leben völlig auf den Kopf stellt. \nDinge und Aktivitäten\, die vorher wichtig waren\, sind es plötzlich nicht mehr oder können nicht mehr stattfinden. Manches verändert seine Bedeutung und wird plötzlich wichtig\, vielleicht gerade dadurch\, dass es fehlt oder dadurch\, dass es uns plötzlich auffällt\, obwohl es immer schon da war.\nEs sind keine unbedeutenden Fragen und Martina Gasser und das Schaufenster Denis laden alle ein\, ihre Antworten zu schicken! Diese werden dann auf der Homepage und auf Facebook (anonymisiert) veröffentlicht werden. \nMehr Info unter: grundsteingasse.com \n*** \nMartina Gasser\, geboren in Innsbruck\, schloss 1997 das College für Fotografie an der Graphischen Bundes-\, Lehr- und Versuchsanstalt in Wien ab und studierte anschließend bis 2003 an der Akademie der Bildenden Künste Wien (Meisterklasse Franz Graf\, Abschluss mit Diplom). \n
URL:https://www.strawanzerin.at/termin/martina-gasser-was-ist-richtig-was-ist-wichtig/
LOCATION:Schaufenster Denis\, Brunnengasse 45 (Auslage des Restaurant Denis in die Grundsteingasse)\, Schaufenster Denis\, Wien\, 1160\, Österreich
CATEGORIES:Gratis,Kunst/Kultur,Wien
ATTACH;FMTTYPE=image/jpeg:https://www.strawanzerin.at/wp-content/uploads/2021/02/Tschillie_und_Tschaki_Skizze.jpg
ORGANIZER;CN="Schaufenster%20Denis":MAILTO:richtigundwichtig2021@gmail.com
END:VEVENT
END:VCALENDAR