BEGIN:VCALENDAR
VERSION:2.0
PRODID:-//STRAWANZERIN - ECPv4.9.5//NONSGML v1.0//EN
CALSCALE:GREGORIAN
METHOD:PUBLISH
X-WR-CALNAME:STRAWANZERIN
X-ORIGINAL-URL:https://www.strawanzerin.at
X-WR-CALDESC:Veranstaltungen im STRAWANZERIN
BEGIN:VTIMEZONE
TZID:"Europe/Helsinki"
BEGIN:DAYLIGHT
TZOFFSETFROM:+0200
TZOFFSETTO:+0300
TZNAME:EEST
DTSTART:20150329T010000
END:DAYLIGHT
BEGIN:STANDARD
TZOFFSETFROM:+0300
TZOFFSETTO:+0200
TZNAME:EET
DTSTART:20151025T010000
END:STANDARD
END:VTIMEZONE
BEGIN:VEVENT
DTSTART;TZID="Europe/Helsinki":20151101T120000
DTEND;TZID="Europe/Helsinki":20151101T170000
DTSTAMP:20260424T154031
CREATED:20151016T100546Z
LAST-MODIFIED:20151019T122523Z
UID:20922-1446379200-1446397200@www.strawanzerin.at
SUMMARY:Marx is Muss am Sonntag: Wie wir eine Welt ohne Grenzen erkämpfen
DESCRIPTION:Die Rebellion gegen die Festung Europa hat hunderttausende Flüchtlinge und Solidarische in ihren Bann gezogen. Wie jede Bewegung wirft sie wichtige Fragen auf: Warum stürzt der Kapitalismus regelmäßig in Krisen und produziert Kriege? Woher kommen Rassismus und Unterdrückung? Wie halten wir den Aufstieg der rechtsextremen Parteien auf? Wie organisieren wir den Kampf gegen Sozialabbau? \nThema am 1. November: Marxistische Basics\n1. Grundlagen der marxistischen Philosophie\n2. Funktionsweise des Kapitalismus\n3. Revolutionäre Partei \nInteressiert? Du willst uns kennenlernen? Dann komm zum Marx is Muss am Sonntag und diskutiere mit! Um Anmeldung wird gebeten. Reader sind vorab erhältlich über linkswende@linkswende.org. Keine Vorkenntnisse erforderlich!  \n
URL:https://www.strawanzerin.at/termin/marx-is-muss-am-sonntag-wie-wir-eine-welt-ohne-grenzen-erkaempfen/
CATEGORIES:Deutsch,Gratis,Soziale Kämpfe,Vortrag/Symposium,Wien
ATTACH;FMTTYPE=image/jpeg:https://www.strawanzerin.at/wp-content/uploads/2015/10/20151101_Marx-is-Muss-am-Sonntag_Flyer_S1.jpg
ORGANIZER;CN="Neue%20Linkswende":MAILTO:linkswende@linkswende.org
END:VEVENT
END:VCALENDAR