BEGIN:VCALENDAR
VERSION:2.0
PRODID:-//STRAWANZERIN - ECPv4.9.5//NONSGML v1.0//EN
CALSCALE:GREGORIAN
METHOD:PUBLISH
X-WR-CALNAME:STRAWANZERIN
X-ORIGINAL-URL:https://www.strawanzerin.at
X-WR-CALDESC:Veranstaltungen im STRAWANZERIN
BEGIN:VTIMEZONE
TZID:"Europe/Vienna"
BEGIN:DAYLIGHT
TZOFFSETFROM:+0100
TZOFFSETTO:+0200
TZNAME:CEST
DTSTART:20250330T010000
END:DAYLIGHT
BEGIN:STANDARD
TZOFFSETFROM:+0200
TZOFFSETTO:+0100
TZNAME:CET
DTSTART:20251026T010000
END:STANDARD
END:VTIMEZONE
BEGIN:VEVENT
DTSTART;TZID="Europe/Vienna":20250425T193000
DTEND;TZID="Europe/Vienna":20250426T210000
DTSTAMP:20260420T195022
CREATED:20250403T085124Z
LAST-MODIFIED:20250403T085124Z
UID:107055-1745609400-1745701200@www.strawanzerin.at
SUMMARY:Masoumeh Jalalieh & Daniel Zimmermann: Carpet of Time – 2673 Movements
DESCRIPTION:Die dynamisch wachsende Tanzperformance Carpet of Time von Masoumeh Jalalieh und Daniel Zimmermann macht die Schönheit eines non-hierarchischen Miteinanders durch abstrakte Bewegungen\, Muster und Klänge erfahrbar. Inspiriert von der persischen Teppichwebkunst\, der Technik des Mustergesangs und der vollendeten Geometrie orientalischer Ornamentik verbindet sie traditionelles Erbe mit zeitgenössischen Fragestellungen zu Wahrnehmung\, Zeit und Resonanz und wird so zu einem Symbol des Widerstands gegen hierarchische Strukturen. \nJalalieh und Zimmermann bewegen sich in einem 9×9 Punkte-Raster\, ähnlich einem Schachbrett\, im Takt von 40 Schlägen pro Minute – ein Rhythmus\, der dem Herzschlag während des Tiefschlafs entspricht\, in dem sich der Körper regeneriert. Aus einfachen Bewegungen und Klängen entwickeln sie zunehmend komplexere Muster\, die grenzenlose Freiheit innerhalb eines begrenzten Raumes entstehen lassen. \nGemeinsam mit der Fotografin und Malerin Inge Dick\, dem Musiker Christian Müller und dem Lichtdesigner Victor Duran erschaffen die Künstler:innen eine Performance\, die Zeit und Wahrnehmung auf neue Weise erfahrbar macht. Mit einem eigens entwickelten Alphabet aus Bewegung\, Rhythmus und Klang entfaltet sich in dem von Inge Dicks Videoarbeit Jahres Licht Weiß geprägten Raumeine fortlaufende\, abstrakte Erzählung\, die Zeit als vielschichtiges\, vernetztes Geflecht zeigt\, in dem Vergangenheit\, Gegenwart und Zukunft gleichzeitig existieren und miteinander verbunden sind – jenseits einer linearen Abfolge oder festen Hierarchie. \nCarpet of Time soll sich zu einem leisen Manifest entwickeln\, das als künstlerische Aktion an verschiedenen Orten und in unterschiedlichen Kontexten erscheint\, um ein kraftvolles Statement für Transformation\, Freiheit und die Überwindung von Grenzen zu setzen. \n© Masoumeh Jalalieh und Daniel Zimmermann \n
URL:https://www.strawanzerin.at/termin/masoumeh-jalalieh-daniel-zimmermann-carpet-of-time-2673-movements/
LOCATION:WUK Projektraum\, Währinger Straße 59 Stiege 4\, Wien\, Wien\, 1090\, Österreich
CATEGORIES:Tanz,Wien
ATTACH;FMTTYPE=image/jpeg:https://www.strawanzerin.at/wp-content/uploads/2025/03/Masoumeh-Zimmermann.jpg
GEO:48.2232818;16.3514158
X-APPLE-STRUCTURED-LOCATION;VALUE=URI;X-ADDRESS=WUK Projektraum Währinger Straße 59 Stiege 4 Wien Wien 1090 Österreich;X-APPLE-RADIUS=500;X-TITLE=Währinger Straße 59 Stiege 4:geo:16.3514158,48.2232818
END:VEVENT
END:VCALENDAR