BEGIN:VCALENDAR
VERSION:2.0
PRODID:-//STRAWANZERIN - ECPv4.9.5//NONSGML v1.0//EN
CALSCALE:GREGORIAN
METHOD:PUBLISH
X-WR-CALNAME:STRAWANZERIN
X-ORIGINAL-URL:https://www.strawanzerin.at
X-WR-CALDESC:Veranstaltungen im STRAWANZERIN
BEGIN:VTIMEZONE
TZID:"Europe/Vienna"
BEGIN:DAYLIGHT
TZOFFSETFROM:+0100
TZOFFSETTO:+0200
TZNAME:CEST
DTSTART:20190331T010000
END:DAYLIGHT
BEGIN:STANDARD
TZOFFSETFROM:+0200
TZOFFSETTO:+0100
TZNAME:CET
DTSTART:20191027T010000
END:STANDARD
END:VTIMEZONE
BEGIN:VEVENT
DTSTART;TZID="Europe/Vienna":20191118T200000
DTEND;TZID="Europe/Vienna":20191121T200000
DTSTAMP:20260420T144106
CREATED:20190919T083502Z
LAST-MODIFIED:20191002T125149Z
UID:68152-1574107200-1574366400@www.strawanzerin.at
SUMMARY:Mathematische Spaziergänge mit Emmy Noether
DESCRIPTION:Uraufführung\nKoproduktion: portraittheater\, Freie Universität (FU) Berlin – Zentrale Frauenbeauftragte und Theater Drachengasse \nBar&Co\n18. – 21. November 2019 um 20 Uhr \nEmmy Noether(1882–1935) zählt bis heute zu den hervorragendsten Köpfen im Bereich der Mathematik. Trotz vieler Hürden für Frauen im Wissenschaftsbereich konnte sie sich 1919 als erste Frau in Preußen habilitieren. Ihr Einfluss bei der Entwicklung einer modernen strukturellen Mathematik war enorm. Ihre Grundlagenarbeit wurde insbesondere durch die „Noether-Schule“ sowie durch die Zusammenarbeit mit Wissenschaftlern wie Helmut Hasse\, Bartel L. van der Waerden\, Paul Alexandroff und Olga Taussky-Todd weitergetragen. \nWer diese Frau war\, welche Bedeutung Emmy Noether als Forschende und Lehrende hatte und was sie besonders macht\, erzählt das Stück von portraittheater. \nText: Sandra Schüddekopf\, Anita Zieher\, mit Originalzitaten von Emmy Noether und Zeitgenoss*innen\nRegie: Sandra Schüddekopf\nVideos: Karl Börner\nSchauspieler*innen Videos: Alexander Fennon\, Werner Landsgesell\,\nKarola Niederhuber\, Helmut Schuster\, Anita Zieher\nMusik: Rupert Derschmidt\nBühnenkostüm: Lejla Ganic\nFotos: Helena Wimmer\nDramaturgische Beratung\, Assistenz: Olivia Rosenberger\nWissenschaftliche Beratung: Dr. Walter Bauer (Universität Salzburg)\,\nDr. Mechthild Koreuber (Freie Universität Berlin)\,\nProf. Dr. David Rowe (Johannes-Gutenberg-Universität Mainz)\nEs spielt: Anita Zieher\nFoto: Bernd Wannenmacher \n
URL:https://www.strawanzerin.at/termin/mathematische-spaziergaenge-mit-emmy-noether/
LOCATION:Theater Drachengasse Bar&Co\, Fleischmarkt 22/Eingang Drachengasse 2\, 1010 Wien\, Wien\, 1010\, Österreich
CATEGORIES:Bildung,Deutsch,Feminismus,Kunst/Kultur,Theater/Kabarett,Wien
ATTACH;FMTTYPE=image/jpeg:https://www.strawanzerin.at/wp-content/uploads/2019/09/BerndWannenmacher400web.jpg
END:VEVENT
END:VCALENDAR