BEGIN:VCALENDAR
VERSION:2.0
PRODID:-//STRAWANZERIN - ECPv4.9.5//NONSGML v1.0//EN
CALSCALE:GREGORIAN
METHOD:PUBLISH
X-WR-CALNAME:STRAWANZERIN
X-ORIGINAL-URL:https://www.strawanzerin.at
X-WR-CALDESC:Veranstaltungen im STRAWANZERIN
BEGIN:VTIMEZONE
TZID:"Europe/Vienna"
BEGIN:DAYLIGHT
TZOFFSETFROM:+0100
TZOFFSETTO:+0200
TZNAME:CEST
DTSTART:20250330T010000
END:DAYLIGHT
BEGIN:STANDARD
TZOFFSETFROM:+0200
TZOFFSETTO:+0100
TZNAME:CET
DTSTART:20251026T010000
END:STANDARD
END:VTIMEZONE
BEGIN:VEVENT
DTSTART;TZID="Europe/Vienna":20251024T200000
DTEND;TZID="Europe/Vienna":20251024T210000
DTSTAMP:20260420T191105
CREATED:20251008T133519Z
LAST-MODIFIED:20251008T133519Z
UID:110122-1761336000-1761339600@www.strawanzerin.at
SUMMARY:Matteo Haitzmann - Im Styx baden
DESCRIPTION:Inspiriert vom mythologischen Fluss Styx erforscht Matteo Haitzmann in Im Styx baden den Zustand des Verlorenseins. Die Grenze zwischen Leben und Tod\, Sichtbarem und Unsichtbarem ist Ausgangspunkt für eine Reise ins Dazwischen. \nAllein auf der Bühne\, umgeben von Nebel\, Dunst und Stille sitzt der Musiker und Performer verloren in einem Raum\, der sich zwischen Überforderung\, Sehnsucht und selbstgewählter Isolation entfaltet. Der Nebel\, der ihn umhüllt\, ist atmosphärisches Bild und Ausdruck eines inneren Zustands\, der trennt\, verschleiert und schützt. Dabei entsteht eine Unschärfe\, in der sich das Selbst verlangsamt\, verirrt\, manchmal auflöst. Aus dieser Einsamkeit heraus entwickelt Matteo Haitzmann einen musikalischen Monolog – eine fragile Abfolge von Liedern\, Fragmenten und Echorufen. Im Styx baden ist kein klassisches Konzert\, sondern eine performative Verdichtung: ein Singen gegen das Verstummen\, ein Tasten im Ungewissen. Der Nebel wird zum eigentlichen Gegenüber – flüchtig\, tröstlich\, wechselhaft und doch undurchdringlich. Er ist Trennung und Sehnsuchtsort in einem\, ein Raum ohne klare Richtung\, ohne festen Boden. Ein Ort der Unendlichkeit\, in den man hineinruft\, hineinsingt – und nichts kommt zurück. \nIm Anschluss an die Vorstellung am Do. 23.10. findet ein Artist Talk statt. \n
URL:https://www.strawanzerin.at/termin/matteo-haitzmann-im-styx-baden/2025-10-24/
LOCATION:brut nordwest\, Nordwestbahnstraße 8-10\, Wien\, Wien\, 1200\, Österreich
CATEGORIES:Theater/Kabarett
ATTACH;FMTTYPE=image/jpeg:https://www.strawanzerin.at/wp-content/uploads/2025/10/Headerbild_2545x1432_MatteoHaitzmann_ImStyxbaden_c_FranziKreis_02.jpg
ORGANIZER;CN="brut%20Wien":MAILTO:info@brut-wien.at
END:VEVENT
END:VCALENDAR