BEGIN:VCALENDAR
VERSION:2.0
PRODID:-//STRAWANZERIN - ECPv4.9.5//NONSGML v1.0//EN
CALSCALE:GREGORIAN
METHOD:PUBLISH
X-WR-CALNAME:STRAWANZERIN
X-ORIGINAL-URL:https://www.strawanzerin.at
X-WR-CALDESC:Veranstaltungen im STRAWANZERIN
BEGIN:VTIMEZONE
TZID:"Europe/Vienna"
BEGIN:DAYLIGHT
TZOFFSETFROM:+0100
TZOFFSETTO:+0200
TZNAME:CEST
DTSTART:20250330T010000
END:DAYLIGHT
BEGIN:STANDARD
TZOFFSETFROM:+0200
TZOFFSETTO:+0100
TZNAME:CET
DTSTART:20251026T010000
END:STANDARD
END:VTIMEZONE
BEGIN:VEVENT
DTSTART;TZID="Europe/Vienna":20250129T200000
DTEND;TZID="Europe/Vienna":20250129T220000
DTSTAMP:20260421T004120
CREATED:20250123T071920Z
LAST-MODIFIED:20250123T071920Z
UID:105562-1738180800-1738188000@www.strawanzerin.at
SUMMARY:Median Mittwoch | Konzert: Dog&SCHWOAZ + Roman Tröster
DESCRIPTION:Mit dem ihm typischen Sprach- und Wortwitz schreibt und spielt der Wiener Singer-Songwriter Norbert Schermann unter dem Label dog&SCHWOAZ seine Lieder. Poesiegetränkter Schmäh und mitunter dünklere\, stets von Humor getragene Geschichten gehen bei dog&SCHWOAZ eine bildreiche Liaison ein. Die Schauplätze reichen dabei weit über die Grenzen der Österreichischen Seele hinaus. Vier Musikproduktionen seit 2016 und sein eben erst erschienenes Buch „Kurz und Herzlos. Poetische Probebohrungen“ zeugen von seiner künstlerischen Produktivität. Einige seiner musikalischen und literarischen Wurzeln reichen bis zu Bob Dylan zurück. In den letzten Jahren wurde er auch als versierter Übersetzer und Performer Dylanscher Songs ins Wienerische bekannt und geschätzt. \nIrgendwann als Teenager stolperte Roman Tröster über die charismatische Stimme von Bob Dylan\, worauf es die logische Konsequenz war\, Gitarre zu lernen. Nach jahrelangem covern hunderter Songs entdeckte er\, spät aber doch\, seine Liebe und sein Talent zum Songwriting.  \nOrt: Kulturcafé Max\, Mariengasse 1\, 1170 Wien\nZeit: Mi\, 29.01.2025\, 20:00 Uhr – 22:00 Uhr\nFreie Spende (Spendenempfehlung 10/20/30€) \n
URL:https://www.strawanzerin.at/termin/median-mittwoch-konzert-dogschwoaz-roman-troester/
LOCATION:Kulturcafé Max\, Mariengasse 1\, Wien\, Hernals\, 1170\, Österreich
CATEGORIES:freie Spende,Musik,Wien
ORGANIZER;CN="Shizzle%20-%20Kunst%20%26amp%3B%20Kulturverein":MAILTO:info@shizzle-kultur.at
END:VEVENT
END:VCALENDAR