BEGIN:VCALENDAR
VERSION:2.0
PRODID:-//STRAWANZERIN - ECPv4.9.5//NONSGML v1.0//EN
CALSCALE:GREGORIAN
METHOD:PUBLISH
X-WR-CALNAME:STRAWANZERIN
X-ORIGINAL-URL:https://www.strawanzerin.at
X-WR-CALDESC:Veranstaltungen im STRAWANZERIN
BEGIN:VTIMEZONE
TZID:"Europe/Helsinki"
BEGIN:DAYLIGHT
TZOFFSETFROM:+0200
TZOFFSETTO:+0300
TZNAME:EEST
DTSTART:20160327T010000
END:DAYLIGHT
BEGIN:STANDARD
TZOFFSETFROM:+0300
TZOFFSETTO:+0200
TZNAME:EET
DTSTART:20161030T010000
END:STANDARD
END:VTIMEZONE
BEGIN:VEVENT
DTSTART;TZID="Europe/Helsinki":20160306T190000
DTEND;TZID="Europe/Helsinki":20160306T210000
DTSTAMP:20260420T193048
CREATED:20160210T103215Z
LAST-MODIFIED:20160210T103215Z
UID:24468-1457290800-1457298000@www.strawanzerin.at
SUMMARY:Meet the Masters - FASTFOOD THEATER
DESCRIPTION:Meet the Masters\nFASTFOOD THEATER (München)\nMonika Eßer-Stahl und Markus Zett \nSO 6.3.2016\, 19.00 \n„Schlagfertigkeiten zum Niederknien!“ Süddeutsche Zeitung \nSeit fast einem Vierteljahrhundert zählt das Münchner Fastfood Theater zu den Fixpunkten auf der Weltkarte des professionellen Improvisationstheaters. Zwei von ihnen sind jetzt endlich im TAG zu Gast und präsentieren ihr feines Duo-Format „AlternaTIEFEN“\, in dem sie mit viel Spiellust an die entscheidenden Wendepunkte von Biografien zurückkehren und neue Wege einschlagen.\nWie anders wäre mein Leben verlaufen\, wenn ich nur eine Kleinigkeit anders gemacht hätte? Was\, wenn ich der ersten Liebe nicht den Laufpass gegeben hätte und für immer mit ihm oder ihr zusammengeblieben wäre? Was\, wenn ich Vaters Fleischerei übernommen oder Astrophysik studiert hätte? \nWie für alle Impro-Profis gilt: Sie wissen nicht\, was sie tun\, aber sie sind bestens darauf vorbereitet. Mit viel Witz\, Poesie und Selbstironie loten sie die emotionalen Untiefen von Lebens- und Liebesentscheidungen aus und überraschen das Publikum ebenso wie sich selbst. Auch Freud hätte seine Freude daran … \n
URL:https://www.strawanzerin.at/termin/meet-the-masters-fastfood-theater/
ATTACH;FMTTYPE=image/jpeg:https://www.strawanzerin.at/wp-content/uploads/2016/02/410_c_HildaLobinger_ach-edit_.jpg
ORGANIZER;CN="TAG%20-%20Theater%20an%20der%20Gumpendorfer%20Stra%C3%9Fe":MAILTO:karten@dastag.at
END:VEVENT
END:VCALENDAR