BEGIN:VCALENDAR
VERSION:2.0
PRODID:-//STRAWANZERIN - ECPv4.9.5//NONSGML v1.0//EN
CALSCALE:GREGORIAN
METHOD:PUBLISH
X-WR-CALNAME:STRAWANZERIN
X-ORIGINAL-URL:https://www.strawanzerin.at
X-WR-CALDESC:Veranstaltungen im STRAWANZERIN
BEGIN:VTIMEZONE
TZID:"Europe/Helsinki"
BEGIN:DAYLIGHT
TZOFFSETFROM:+0200
TZOFFSETTO:+0300
TZNAME:EEST
DTSTART:20160327T010000
END:DAYLIGHT
BEGIN:STANDARD
TZOFFSETFROM:+0300
TZOFFSETTO:+0200
TZNAME:EET
DTSTART:20161030T010000
END:STANDARD
END:VTIMEZONE
BEGIN:VEVENT
DTSTART;TZID="Europe/Helsinki":20160902T200000
DTEND;TZID="Europe/Helsinki":20160902T220000
DTSTAMP:20260421T133558
CREATED:20160905T082735Z
LAST-MODIFIED:20160905T082735Z
UID:32700-1472846400-1472853600@www.strawanzerin.at
SUMMARY:Meet the Masters: Jacob Banigan
DESCRIPTION:Jacob Banigan\, Impro-Begeisterten bekannt als Mitglied der English Lovers\, verwendet in seinem Soloabend\, mit dem er bereits in ganz Europa auf Tour ging\, drei Wahrsagekarten\, Inspirationen und Interpretationen aus dem Publikum\, eine Eieruhr und den Zufall\, um die Dramaturgie des Abends ins Rollen zu bringen: Wer wartet hinter der Tür? Wann wird der Tod kommen? Wie viel an dieser Performance ist vorbestimmt? Entsteht alles aus dem Moment? Oder erfüllt der Darsteller einfach nur sein Schicksal? Ein sprühendes Impro-Solo mit feinstem Humor. \n
URL:https://www.strawanzerin.at/termin/meet-the-masters-jacob-banigan/
END:VEVENT
END:VCALENDAR