BEGIN:VCALENDAR
VERSION:2.0
PRODID:-//STRAWANZERIN - ECPv4.9.5//NONSGML v1.0//EN
CALSCALE:GREGORIAN
METHOD:PUBLISH
X-WR-CALNAME:STRAWANZERIN
X-ORIGINAL-URL:https://www.strawanzerin.at
X-WR-CALDESC:Veranstaltungen im STRAWANZERIN
BEGIN:VTIMEZONE
TZID:"Europe/Vienna"
BEGIN:DAYLIGHT
TZOFFSETFROM:+0100
TZOFFSETTO:+0200
TZNAME:CEST
DTSTART:20180325T010000
END:DAYLIGHT
BEGIN:STANDARD
TZOFFSETFROM:+0200
TZOFFSETTO:+0100
TZNAME:CET
DTSTART:20181028T010000
END:STANDARD
END:VTIMEZONE
BEGIN:VEVENT
DTSTART;TZID="Europe/Vienna":20180126T193000
DTEND;TZID="Europe/Vienna":20180126T193000
DTSTAMP:20260421T161551
CREATED:20171226T191902Z
LAST-MODIFIED:20171229T093640Z
UID:51000-1516995000-1516995000@www.strawanzerin.at
SUMMARY:MEI 1/4 STUND‘ Open Mic Format
DESCRIPTION:Einlass: 19:30\nBeginn: 20:00\nEintritt: frei \nDer HOB i RAUM geht mit diesem beliebten Open Mic-Format in die nächste Runde.\nKünstlerinnen und Künstler aller Arten und Sparten sind eingeladen sich eine Viertelstunde auf der HOB i RAUM Bühne zu präsentieren. Ob Kabarett\, Musik\, Schauspiel\, Performance\, Zauberkunst\, Varieté oder von allem ein bisschen\, alles ist erlaubt. Es verspricht wieder ein buntes Feuerwerk an Kunst zu werden. \n
URL:https://www.strawanzerin.at/termin/mei-1-4-stund-open-mic-format/
LOCATION:HOB i RAUM\, Hanuschgasse 1\, Bad Vöslau\, Niederösterreich\, 2540
CATEGORIES:Gratis,Musik,Niederösterreich
ORGANIZER;CN="HOB%20i%20RAUM":MAILTO:petra@hobiraum.at
GEO:47.9686941;16.2205195
X-APPLE-STRUCTURED-LOCATION;VALUE=URI;X-ADDRESS=HOB i RAUM Hanuschgasse 1 Bad Vöslau Niederösterreich 2540;X-APPLE-RADIUS=500;X-TITLE=Hanuschgasse 1:geo:16.2205195,47.9686941
END:VEVENT
END:VCALENDAR