BEGIN:VCALENDAR
VERSION:2.0
PRODID:-//STRAWANZERIN - ECPv4.9.5//NONSGML v1.0//EN
CALSCALE:GREGORIAN
METHOD:PUBLISH
X-WR-CALNAME:STRAWANZERIN
X-ORIGINAL-URL:https://www.strawanzerin.at
X-WR-CALDESC:Veranstaltungen im STRAWANZERIN
BEGIN:VTIMEZONE
TZID:"Europe/Vienna"
BEGIN:DAYLIGHT
TZOFFSETFROM:+0100
TZOFFSETTO:+0200
TZNAME:CEST
DTSTART:20240331T010000
END:DAYLIGHT
BEGIN:STANDARD
TZOFFSETFROM:+0200
TZOFFSETTO:+0100
TZNAME:CET
DTSTART:20241027T010000
END:STANDARD
END:VTIMEZONE
BEGIN:VEVENT
DTSTART;TZID="Europe/Vienna":20241027T180000
DTEND;TZID="Europe/Vienna":20241027T210000
DTSTAMP:20260420T183249
CREATED:20240906T171120Z
LAST-MODIFIED:20240906T171120Z
UID:103127-1730052000-1730062800@www.strawanzerin.at
SUMMARY:»Meine drei Mütter und ich« - Buchpräsentation mit Musik an drei ganz unterschiedlichen Orten
DESCRIPTION:In ihrem siebenten und neuesten Roman setzt sich die österreichische Autorin Lis Levell auf erfrischende Art mit den Anforderungen eines zeitgemäßen Frauenbilds auseinander. Diesmal steht das Thema »Patchworkfamilie« samt herkömmlicher und überraschender Begleiterscheinungen im Vordergrund. Auf der Suche nach den männlichen Bezugspersonen in ihrem Leben erfährt die Protagonistin Franziska mehr über sich selbst und ihre drei Mütter mit deren ganz unterschiedlichen Zugängen\, den Alltag zu meistern. Liebe- und humorvoll werden Klischees aufgedeckt\, auseinandergenommen und herrlich verrückt zu einem neuen Rollenverständnis zusammengesetzt. Musik: Jonny Blue. Sektausklang. Der Eintritt ist frei. \nAlle Termine:\nDonnerstag\, 10. Oktober 2024\, 17 Uhr; Österreichischer Journalisten Club\, 1010 Wien\, Blutgasse 3\nSonntag\, 27. Oktober 2024\, 18 Uhr; Marionettentheater Schloss Schönbrunn\, 1130 Wien\, Hofratstrakt\nDienstag\, 26. November 2024\, 19 Uhr; Sechsschimmelgalerie\, 1090 Wien\, Sechsschimmelgasse 14 \nBild: Autorin Lis Levell mit Lesungspartner und Musiker Jonny Blue\, Foto/© www.lis-levell.com \n
URL:https://www.strawanzerin.at/termin/meine-drei-muetter-und-ich-buchpraesentation-mit-musik-an-drei-ganz-unterschiedlichen-orten/
LOCATION:Marionettentheater Schloss Schönbrunn\, Hofratstrakt\, 1130 Wien\, Wien\, 1130\, Österreich
CATEGORIES:Gratis,Literatur,Musik,Wien
ATTACH;FMTTYPE=image/jpeg:https://www.strawanzerin.at/wp-content/uploads/2024/09/IMGM1678-M3M-mit-M3M-7x7cm.jpg
GEO:48.185952;16.3159428
X-APPLE-STRUCTURED-LOCATION;VALUE=URI;X-ADDRESS=Marionettentheater Schloss Schönbrunn Hofratstrakt 1130 Wien Wien 1130 Österreich;X-APPLE-RADIUS=500;X-TITLE=Hofratstrakt\, 1130 Wien:geo:16.3159428,48.185952
END:VEVENT
END:VCALENDAR