BEGIN:VCALENDAR
VERSION:2.0
PRODID:-//STRAWANZERIN - ECPv4.9.5//NONSGML v1.0//EN
CALSCALE:GREGORIAN
METHOD:PUBLISH
X-WR-CALNAME:STRAWANZERIN
X-ORIGINAL-URL:https://www.strawanzerin.at
X-WR-CALDESC:Veranstaltungen im STRAWANZERIN
BEGIN:VTIMEZONE
TZID:"Europe/Vienna"
BEGIN:DAYLIGHT
TZOFFSETFROM:+0100
TZOFFSETTO:+0200
TZNAME:CEST
DTSTART:20240331T010000
END:DAYLIGHT
BEGIN:STANDARD
TZOFFSETFROM:+0200
TZOFFSETTO:+0100
TZNAME:CET
DTSTART:20241027T010000
END:STANDARD
END:VTIMEZONE
BEGIN:VEVENT
DTSTART;TZID="Europe/Vienna":20240308T153000
DTEND;TZID="Europe/Vienna":20240308T163000
DTSTAMP:20260422T051034
CREATED:20240223T113114Z
LAST-MODIFIED:20240223T113114Z
UID:96903-1709911800-1709915400@www.strawanzerin.at
SUMMARY:Meister Eisenarm und andere kluge Geschichten
DESCRIPTION:Im Kreis der Zuhörer mündlich erzählt entfalten sich die Bedrängnis und die klugen und weisen Lösungen von den Frauen und Männern in den drei Geschichten. Erzählte Geschichten nehmen einen mit auf eine Reise und wenn sie endet\, ist man meist um ein Schmunzeln reicher. \n
URL:https://www.strawanzerin.at/termin/meister-eisenarm-und-andere-kluge-geschichten/
LOCATION:Heuriger Der Stadlmann\, Maurer Lange Gasse 30\, 1230 wien\, 1230\, Österreich
CATEGORIES:freie Spende
ORGANIZER;CN="sonjanoraerzaehlt.at":MAILTO:sonja.kinigadner@gmx.at
END:VEVENT
END:VCALENDAR