BEGIN:VCALENDAR
VERSION:2.0
PRODID:-//STRAWANZERIN - ECPv4.9.5//NONSGML v1.0//EN
CALSCALE:GREGORIAN
METHOD:PUBLISH
X-WR-CALNAME:STRAWANZERIN
X-ORIGINAL-URL:https://www.strawanzerin.at
X-WR-CALDESC:Veranstaltungen im STRAWANZERIN
BEGIN:VTIMEZONE
TZID:"Europe/Vienna"
BEGIN:DAYLIGHT
TZOFFSETFROM:+0100
TZOFFSETTO:+0200
TZNAME:CEST
DTSTART:20170326T010000
END:DAYLIGHT
BEGIN:STANDARD
TZOFFSETFROM:+0200
TZOFFSETTO:+0100
TZNAME:CET
DTSTART:20171029T010000
END:STANDARD
END:VTIMEZONE
BEGIN:VEVENT
DTSTART;TZID="Europe/Vienna":20171118T190000
DTEND;TZID="Europe/Vienna":20171118T190000
DTSTAMP:20260422T120955
CREATED:20171113T144839Z
LAST-MODIFIED:20171114T114103Z
UID:49281-1511031600-1511031600@www.strawanzerin.at
SUMMARY:Melange der Poesie
DESCRIPTION:„So etwas gibt es noch nicht“\, sagt die Autorin Barbara Rieger\, die zusammen mit dem Pariser Fotografen Alain Barbero „Melange der Poesie – Wiener Kaffeehausmomente in Schwarzweiß“ herausgegeben hat und damit sowohl die österreichische Literaturlandschaft als auch die Wiener Kaffeehauskultur mit theatralischen Fotografien sowie Texten in Szene setzt. Doch wie kam es zu dieser Idee? Wer steckt hinter den Herausgebern? Und was fasziniert noch heute so viele Künstler und Künstlerinnen an Wiener Kaffeehäusern\, welche sich mittlerweile gekonnt variantenreich von alteingesessen über elegant\, klassisch bis hin zu modern\, schlicht präsentieren?\nDiese Fragen beantworten Barbara Rieger und Alain Barbero sowie die AutorInnen Gertraud Klemm und Günter Vallaster. \n
URL:https://www.strawanzerin.at/termin/melange-der-poesie/
LOCATION:BOeS Atelier\, Vivenotgasse  30/2/2\, Wien\, Wien\, 1120\, Österreich
CATEGORIES:Ausstellung,Kunst/Kultur,Literatur,Wien
ATTACH;FMTTYPE=image/jpeg:https://www.strawanzerin.at/wp-content/uploads/2017/11/Flyer-November-17.jpg
ORGANIZER;CN="BOeS":MAILTO:hannah.sideris@gmail.com
GEO:48.1785387;16.3311487
X-APPLE-STRUCTURED-LOCATION;VALUE=URI;X-ADDRESS=BOeS Atelier Vivenotgasse  30/2/2 Wien Wien 1120 Österreich;X-APPLE-RADIUS=500;X-TITLE=Vivenotgasse  30/2/2:geo:16.3311487,48.1785387
END:VEVENT
END:VCALENDAR