BEGIN:VCALENDAR
VERSION:2.0
PRODID:-//STRAWANZERIN - ECPv4.9.5//NONSGML v1.0//EN
CALSCALE:GREGORIAN
METHOD:PUBLISH
X-WR-CALNAME:STRAWANZERIN
X-ORIGINAL-URL:https://www.strawanzerin.at
X-WR-CALDESC:Veranstaltungen im STRAWANZERIN
BEGIN:VTIMEZONE
TZID:"Europe/Vienna"
BEGIN:DAYLIGHT
TZOFFSETFROM:+0100
TZOFFSETTO:+0200
TZNAME:CEST
DTSTART:20200329T010000
END:DAYLIGHT
BEGIN:STANDARD
TZOFFSETFROM:+0200
TZOFFSETTO:+0100
TZNAME:CET
DTSTART:20201025T010000
END:STANDARD
END:VTIMEZONE
BEGIN:VEVENT
DTSTART;TZID="Europe/Vienna":20200307T153000
DTEND;TZID="Europe/Vienna":20200307T180000
DTSTAMP:20260421T022049
CREATED:20200217T171445Z
LAST-MODIFIED:20200219T143336Z
UID:72290-1583595000-1583604000@www.strawanzerin.at
SUMMARY:méli-mélo
DESCRIPTION:kostenloser Kunstworkshop méli-mélo* \nSamstag\, 7. März 2020 \n15.30 bis 17.30 Uhr: Schlagwerken mit Harald Kreuzer\nMit Trommeln\, Rasseln und Triangeln reisen wir in die Welt der Schlaginstrumente\, erfinden verschiedene Rhythmen und Klänge und lassen daraus neue Beats entstehen. \n15.30 bis 18.00 Uhr: Kunstwerkeln mit Elli Dietzen-Walcher und Lukas Walcher \nWir öffnen mit Elli und Lukas\, zwei bildende Künstler_innen\, wieder unsere Werkstatt\, in der ihr eure kreativen Ideen mit unterschiedlichen Materialien umsetzen und an eurer Kunst werkeln könnt….! \n*méli-mélo steht im Französischen für Sammelsurium\, Gewirr oder auch Mischmasch \n
URL:https://www.strawanzerin.at/termin/meli-melo-2/
LOCATION:Musisches Zentrum Wien\, Zeltgasse 7\, Wien\, Wien\, 1080\, Österreich
ATTACH;FMTTYPE=image/jpeg:https://www.strawanzerin.at/wp-content/uploads/2020/02/Meli-Melo_März2.jpg
ORGANIZER;CN="Musisches%20Zentrum%20Wien":MAILTO:musisches-zentrum@jugendzentren.at
END:VEVENT
END:VCALENDAR