BEGIN:VCALENDAR
VERSION:2.0
PRODID:-//STRAWANZERIN - ECPv4.9.5//NONSGML v1.0//EN
CALSCALE:GREGORIAN
METHOD:PUBLISH
X-WR-CALNAME:STRAWANZERIN
X-ORIGINAL-URL:https://www.strawanzerin.at
X-WR-CALDESC:Veranstaltungen im STRAWANZERIN
BEGIN:VTIMEZONE
TZID:"Europe/Vienna"
BEGIN:DAYLIGHT
TZOFFSETFROM:+0100
TZOFFSETTO:+0200
TZNAME:CEST
DTSTART:20240331T010000
END:DAYLIGHT
BEGIN:STANDARD
TZOFFSETFROM:+0200
TZOFFSETTO:+0100
TZNAME:CET
DTSTART:20241027T010000
END:STANDARD
END:VTIMEZONE
BEGIN:VEVENT
DTSTART;TZID="Europe/Vienna":20240413T153000
DTEND;TZID="Europe/Vienna":20240413T180000
DTSTAMP:20260422T004010
CREATED:20240321T114407Z
LAST-MODIFIED:20240321T114407Z
UID:97684-1713022200-1713031200@www.strawanzerin.at
SUMMARY:méli-mélo - Workshop-Nachmittag für die ganze Familie*
DESCRIPTION:Bei méli-mélo wird getanzt\, gesungen oder Theater gespielt – je nachdem\, was wir uns gerade einfallen lassen. Kunstwerkeln ist jedenfalls immer dabei. \nAm 13.04.2024 werden wir: \n15.30 bis 17.30 Uhr: Geschichten mit Lizzy Hollatko\nGemeinsam mit Lizzy Hollatko laden wir dazu ein\, in einem unserer Studios\, „Geschichten zu erleben“. Wir werden die Geschichten aus ihren Büchern hören\, uns bewegen\, nacherzählen\, Neues erzählen und zeichnen. \n15.30 bis 18.00 Uhr: Kunstwerkeln mit Elli Dietzen und Lukas Walcher\nWir öffnen mit Elli und Lukas\, bildende Künstler:innen\, wieder unsere Werkstatt\, in der ihr eure kreativen Ideen mit unterschiedlichen Materialien umsetzen und an eurer Kunst werkeln könnt…! \nFür die älteren Geschwister (ab 6 Jahren) bietet Nina Sandino in einem weiteren Studio den Workshop „Freestyle auf deine Art“ an. Inspiriert von verschiedenen Elementen der Hip Hop-Kultur werden wir unsere eigenen Beats und Mixes kreieren\, um neue Moves zu entwickeln.\nWorkshop 1: 14.30-15.20 Uhr von 6 bis 9 Jahren\nWorkshop 2: 15.30-16.20 Uhr von 10 bis 14 Jahren \nKeine Anmeldung erforderlich I Eintritt frei\nInfos unter musisches-zentrum@jugendzentren.at \n*méli-mélo steht im Französischen für Sammelsurium\, Gewirr oder auch Mischmasch \n
URL:https://www.strawanzerin.at/termin/meli-melo-workshop-nachmittag-fuer-die-ganze-familie-3/
LOCATION:Musisches Zentrum Wien\, Zeltgasse 7\, Zeltgasse 7\, Wien\, Wien\, 1080\, Österreich
CATEGORIES:Gratis,Kinderkultur,Wien,Workshop
ATTACH;FMTTYPE=image/jpeg:https://www.strawanzerin.at/wp-content/uploads/2024/03/Web-DSC_0007-scaled.jpg
ORGANIZER;CN="Musisches%20Zentrum%20Wien":MAILTO:musisches-zentrum@jugendzentren.at
END:VEVENT
END:VCALENDAR