BEGIN:VCALENDAR
VERSION:2.0
PRODID:-//STRAWANZERIN - ECPv4.9.5//NONSGML v1.0//EN
CALSCALE:GREGORIAN
METHOD:PUBLISH
X-WR-CALNAME:STRAWANZERIN
X-ORIGINAL-URL:https://www.strawanzerin.at
X-WR-CALDESC:Veranstaltungen im STRAWANZERIN
BEGIN:VTIMEZONE
TZID:"Europe/Vienna"
BEGIN:DAYLIGHT
TZOFFSETFROM:+0100
TZOFFSETTO:+0200
TZNAME:CEST
DTSTART:20200329T010000
END:DAYLIGHT
BEGIN:STANDARD
TZOFFSETFROM:+0200
TZOFFSETTO:+0100
TZNAME:CET
DTSTART:20201025T010000
END:STANDARD
END:VTIMEZONE
BEGIN:VEVENT
DTSTART;TZID="Europe/Vienna":20200118T153000
DTEND;TZID="Europe/Vienna":20200118T180000
DTSTAMP:20260423T154210
CREATED:20200114T143344Z
LAST-MODIFIED:20200130T103437Z
UID:71162-1579361400-1579370400@www.strawanzerin.at
SUMMARY:méli-mélo
DESCRIPTION:méli-mélo\nSamstag\, 18. Jänner 2020\, ab 15.30 Uhr \n15.30 bis 17.30 Uhr: Latin Hip-Hop mit Romana Besedova\nMitreißende lateinamerikanische Rhythmen laden zu tänzerischen Fantasiereisen ein. Spaß und Freude am Tanzen und Experimentieren stehen dabei im Vordergrund.  \n15.30 bis 18 Uhr: Kunstwerkeln mit Elli und Steffi\nWir öffnen mit Elli und Steffi\, zwei bildende Künstlerinnen\, wieder unsere Werkstatt\, in der ihr eure kreativen Ideen mit unterschiedlichen Materialien umsetzen und an eurer Kunst werkeln könnt…! \n
URL:https://www.strawanzerin.at/termin/meli-melo/
LOCATION:Musisches Zentrum Wien\, Zeltgasse 7\, Wien\, Wien\, 1080\, Österreich
CATEGORIES:Kinderkultur,Kunst/Kultur,Tanz,Workshop
ATTACH;FMTTYPE=image/jpeg:https://www.strawanzerin.at/wp-content/uploads/2020/01/melimelo_01_2020_op.jpg
ORGANIZER;CN="Musisches%20Zentrum%20Wien":MAILTO:trum@jugendzentren.at
END:VEVENT
END:VCALENDAR