BEGIN:VCALENDAR
VERSION:2.0
PRODID:-//STRAWANZERIN - ECPv4.9.5//NONSGML v1.0//EN
CALSCALE:GREGORIAN
METHOD:PUBLISH
X-WR-CALNAME:STRAWANZERIN
X-ORIGINAL-URL:https://www.strawanzerin.at
X-WR-CALDESC:Veranstaltungen im STRAWANZERIN
BEGIN:VTIMEZONE
TZID:"Europe/Vienna"
BEGIN:DAYLIGHT
TZOFFSETFROM:+0100
TZOFFSETTO:+0200
TZNAME:CEST
DTSTART:20240331T010000
END:DAYLIGHT
BEGIN:STANDARD
TZOFFSETFROM:+0200
TZOFFSETTO:+0100
TZNAME:CET
DTSTART:20241027T010000
END:STANDARD
END:VTIMEZONE
BEGIN:VEVENT
DTSTART;TZID="Europe/Vienna":20240613T200000
DTEND;TZID="Europe/Vienna":20240613T220000
DTSTAMP:20260421T102025
CREATED:20240425T151509Z
LAST-MODIFIED:20240425T151509Z
UID:98379-1718308800-1718316000@www.strawanzerin.at
SUMMARY:Michael Bauer
DESCRIPTION:Michael Bauer-Heidelbeehugo\nWas frag ich auch so blöd?\nHeidelbeehugo\n„Was frag ich auch so blöd?“\, sagt Michael Bauer ganz oft zu sich\, wenn er schon beim Stellen der Frage Angst vor der Antwort hat. Vor allem\, wenn die Befragten der eigene\, pubertierende Sohn oder die hungergrantige Frau sind. \nDoch wenigstens im Büro ist er sicher vor überemotionalen Antworten. Dort sind schließlich nur Profis am Werk. Lustig\, gerade wo Sie diese Zeilen lesen\, schreit die Gabi den Stefan an und ihr schießen waagerecht Tränen aus den Augen. „Gehts eh?“\, hat wohl auch nicht gerade zu Gabis Beruhigung beigetragen\, aber was fragt Michael auch so blöd? An Blödheit mangelt es auf Social Media keinesfalls. „Welche Frucht bist du?“\, ist dabei noch eine der anspruchsvolleren Fragen. Völlig logisch\, dass so etwas hunderttausende Male gesehen wird\, oder? \nDoch welche Fragen sollten stattdessen gestellt werden? Wo braucht es Antworten\, obwohl niemand gefragt hat? Michael Bauer wird dafür Lösungen finden. Oder jemanden anrufen. \n
URL:https://www.strawanzerin.at/termin/michael-bauer/
LOCATION:Papierfabrik Varieté\, Kirchenplatz 9\, Kleinneusiedl\, Niederösterreich\, 2431
CATEGORIES:Niederösterreich,Theater/Kabarett
ATTACH;FMTTYPE=image/jpeg:https://www.strawanzerin.at/wp-content/uploads/2024/04/005_print-Heidelbeer-Hugo_c-Michael-Bauer-scaled.jpeg
ORGANIZER;CN="Papierfabrik%20Variet%C3%A9":MAILTO:info@papierfabrik-variete.com
END:VEVENT
END:VCALENDAR