BEGIN:VCALENDAR
VERSION:2.0
PRODID:-//STRAWANZERIN - ECPv4.9.5//NONSGML v1.0//EN
CALSCALE:GREGORIAN
METHOD:PUBLISH
X-WR-CALNAME:STRAWANZERIN
X-ORIGINAL-URL:https://www.strawanzerin.at
X-WR-CALDESC:Veranstaltungen im STRAWANZERIN
BEGIN:VTIMEZONE
TZID:"Europe/Vienna"
BEGIN:DAYLIGHT
TZOFFSETFROM:+0100
TZOFFSETTO:+0200
TZNAME:CEST
DTSTART:20250330T010000
END:DAYLIGHT
BEGIN:STANDARD
TZOFFSETFROM:+0200
TZOFFSETTO:+0100
TZNAME:CET
DTSTART:20251026T010000
END:STANDARD
END:VTIMEZONE
BEGIN:VEVENT
DTSTART;TZID="Europe/Vienna":20250128T180000
DTEND;TZID="Europe/Vienna":20250128T180000
DTSTAMP:20260421T011955
CREATED:20241220T110346Z
LAST-MODIFIED:20241220T110346Z
UID:105188-1738087200-1738087200@www.strawanzerin.at
SUMMARY:Militarisierung der EU – eine Systemkritik
DESCRIPTION:feminismen diskutieren \nVortrag von Anna Laetitia Rauchenwald (Aktivistin und Sozialwissenschaftlerin\, Wien) \nIn der EU scheint derzeit die einzige logische Konsequenz aus den geopolitischen Konfrontationen eine zunehmende Militarisierung zu sein. Vor diesem Hintergrund bedarf es einer Untersuchung der strukturellen Zusammenhänge\, die der Militarisierung der EU zugrunde liegen\, indem politökonomische Staats-\, Imperialismus- und Militarismustheorien miteinander verschränkt werden. Was diese Verschränkung konkret bedeutet\, wird exemplarisch an den EU-Missionen in Mali und Niger aufgezeigt. \nModeration: Sabine Prokop (VfW) \nOrt: Frauenhetz\, Untere Weißgerberstraße 41\, 1030 Wien \nVortrag auch per Zoom bei Anmeldung bis Mo\, 27. Jänner 2025\, 12:00 Uhr an pr@frauenhetz.at \nIn Kooperation mit dem Verband feministischer Wissenschafteri*nnen \nDie Veranstaltung ist offen für alle. \n
URL:https://www.strawanzerin.at/termin/militarisierung-der-eu-eine-systemkritik/
LOCATION:Frauenbildungsstätte Frauenhetz\, Untere Weißgerberstraße 41\, Wien\, Wien\, 1030\, Österreich
CATEGORIES:Antimilitarismus,Barrierefrei,Deutsch,Feminismus,Gratis,Vortrag/Symposium,Wien
GEO:48.2084854;16.3946163
X-APPLE-STRUCTURED-LOCATION;VALUE=URI;X-ADDRESS=Frauenbildungsstätte Frauenhetz Untere Weißgerberstraße 41 Wien Wien 1030 Österreich;X-APPLE-RADIUS=500;X-TITLE=Untere Weißgerberstraße 41:geo:16.3946163,48.2084854
END:VEVENT
END:VCALENDAR