BEGIN:VCALENDAR
VERSION:2.0
PRODID:-//STRAWANZERIN - ECPv4.9.5//NONSGML v1.0//EN
CALSCALE:GREGORIAN
METHOD:PUBLISH
X-WR-CALNAME:STRAWANZERIN
X-ORIGINAL-URL:https://www.strawanzerin.at
X-WR-CALDESC:Veranstaltungen im STRAWANZERIN
BEGIN:VTIMEZONE
TZID:"Europe/Vienna"
BEGIN:DAYLIGHT
TZOFFSETFROM:+0100
TZOFFSETTO:+0200
TZNAME:CEST
DTSTART:20180325T010000
END:DAYLIGHT
BEGIN:STANDARD
TZOFFSETFROM:+0200
TZOFFSETTO:+0100
TZNAME:CET
DTSTART:20181028T010000
END:STANDARD
END:VTIMEZONE
BEGIN:VEVENT
DTSTART;TZID="Europe/Vienna":20180320T170000
DTEND;TZID="Europe/Vienna":20180320T200000
DTSTAMP:20260422T023159
CREATED:20180302T102056Z
LAST-MODIFIED:20180302T102056Z
UID:53191-1521565200-1521576000@www.strawanzerin.at
SUMMARY:Mind the gap! - Globale Ungleichheiten aufdecken
DESCRIPTION:Für unsere living library Veranstaltung im Rahmen von Bildung im C3ntrum 2018 laden wir AkteurInnen\, die zu globalen (Un-)Gleichheiten arbeiten (im Bereich Arbeit\, Bildung\, Ernährung\, Gender…und mehr) dazu ein\, über ihr Engagement zu sprechen und eine Inspiration für jene zu sein\, die eine gerechtere Welt gestalten möchten! Die persönlichen Gespräche wirken gegenseitig bereichernd und sind auch Quelle der Inspiration für die eigene Arbeit. \nZum Konzept von living library: Als BesucherIn einer living library wählt man aus einem Katalog einen „Buchtitel“ aus und „entlehnt“ das „lebende Buch“ am Desk der Bibliothek. Man findet sich an einem Tisch zusammen\, wo das rund halbstündige Gespräch beginnen kann.  \n
URL:https://www.strawanzerin.at/termin/mind-the-gap-globale-ungleichheiten-aufdecken/
LOCATION:C3 – Bibliothek für Entwicklungspolitik\, Sensengasse 3\, Wien\, Wien\, 1090\, Österreich
CATEGORIES:Gratis,Wien,Workshop
ATTACH;FMTTYPE=image/jpeg:https://www.strawanzerin.at/wp-content/uploads/2018/02/Plakat_living_books.jpg
ORGANIZER;CN="C3%20-%20Centrum%20f%C3%BCr%20Internationale%20Entwicklung":MAILTO:g.slezak@oefse.at
GEO:48.2197597;16.3534487
X-APPLE-STRUCTURED-LOCATION;VALUE=URI;X-ADDRESS=C3 – Bibliothek für Entwicklungspolitik Sensengasse 3 Wien Wien 1090 Österreich;X-APPLE-RADIUS=500;X-TITLE=Sensengasse 3:geo:16.3534487,48.2197597
END:VEVENT
END:VCALENDAR