BEGIN:VCALENDAR
VERSION:2.0
PRODID:-//STRAWANZERIN - ECPv4.9.5//NONSGML v1.0//EN
CALSCALE:GREGORIAN
METHOD:PUBLISH
X-WR-CALNAME:STRAWANZERIN
X-ORIGINAL-URL:https://www.strawanzerin.at
X-WR-CALDESC:Veranstaltungen im STRAWANZERIN
BEGIN:VTIMEZONE
TZID:"Europe/Vienna"
BEGIN:DAYLIGHT
TZOFFSETFROM:+0100
TZOFFSETTO:+0200
TZNAME:CEST
DTSTART:20210328T010000
END:DAYLIGHT
BEGIN:STANDARD
TZOFFSETFROM:+0200
TZOFFSETTO:+0100
TZNAME:CET
DTSTART:20211031T010000
END:STANDARD
END:VTIMEZONE
BEGIN:VEVENT
DTSTART;TZID="Europe/Vienna":20211029T193000
DTEND;TZID="Europe/Vienna":20211029T210000
DTSTAMP:20260421T155720
CREATED:20210927T094335Z
LAST-MODIFIED:20211006T082726Z
UID:80862-1635535800-1635541200@www.strawanzerin.at
SUMMARY:Miss SELRAMP`S seltsame Fälle - Cafehauskrimi
DESCRIPTION:Heiterer Kaffeehaus–Krimi von und mit Brigitte Welcker \nWer hat die Rubinhalskette der Baronin gestohlen? Was ist mit dem goldenen Teekästchen\ngeschehen? Welche Rolle spielen ein paar auffällig–unauffällige Herren dabei? Wer ist Miss\nSelpram überhaupt – und was hat eine englische Lady mit Kriminalfällen in Frankreich zu\ntun? \nDiese heitere Lesung bringt Aufschluss – oder eher doch noch mehr Verwirrung? \nBrigitte Welcker:\nTheater–Autorin\, Schauspielerin (Bühne und Film)\, Werkübersetzerin (Musical\, Schauspiel\,\netc.)\, Liedermacherin\, Sängerin\, Vortragende\, Ausstatterin\, Eigenproduktionen u.v.m.\,\nvielsprachig\, hat außer in Österreich auch viele Jahre in Ungarn\, Deutschland und Frankreich gelebt und gearbeitet. \nGründerin\, Obfrau und Künstlerin\ndes gemeinnützigen Vereins KUNST–OHNE–BARRIEREN ZVR:\n824472000 – Kunst\, Kultur und Sport von und für Menschen mit und ohne Handicap. \nhttp://www.kunst-ohne-barrieren.at/ \nEintritt frei!!! \n
URL:https://www.strawanzerin.at/termin/miss-selramps-seltsame-faelle-cafehauskrimi/
LOCATION:Bio-Meisel Kulturwirtshaus\, Gurkgasse 55 / 2-3\, Wien\, 1140\, Österreich
CATEGORIES:Kunst/Kultur,Literatur,Wien
ATTACH;FMTTYPE=image/jpeg:https://www.strawanzerin.at/wp-content/uploads/2021/09/Miss-S-Brigitte-Welcker.jpg
ORGANIZER;CN="Bio-Meisel%20Kulturwirtshaus":MAILTO:bio-meisel@gmx.at
END:VEVENT
END:VCALENDAR