BEGIN:VCALENDAR
VERSION:2.0
PRODID:-//STRAWANZERIN - ECPv4.9.5//NONSGML v1.0//EN
CALSCALE:GREGORIAN
METHOD:PUBLISH
X-WR-CALNAME:STRAWANZERIN
X-ORIGINAL-URL:https://www.strawanzerin.at
X-WR-CALDESC:Veranstaltungen im STRAWANZERIN
BEGIN:VTIMEZONE
TZID:"Europe/Vienna"
BEGIN:DAYLIGHT
TZOFFSETFROM:+0100
TZOFFSETTO:+0200
TZNAME:CEST
DTSTART:20180325T010000
END:DAYLIGHT
BEGIN:STANDARD
TZOFFSETFROM:+0200
TZOFFSETTO:+0100
TZNAME:CET
DTSTART:20181028T010000
END:STANDARD
END:VTIMEZONE
BEGIN:VEVENT
DTSTART;TZID="Europe/Vienna":20180219T193000
DTEND;TZID="Europe/Vienna":20180219T210000
DTSTAMP:20260421T230801
CREATED:20180212T120540Z
LAST-MODIFIED:20180212T120540Z
UID:52312-1519068600-1519074000@www.strawanzerin.at
SUMMARY:"Missionen der Schönheit" von Sibylle Berg
DESCRIPTION:Österreichische Erstaufführung \nSibylle Berg ist eine der renommiertesten zeitgenössischen\, deutschsprachigen Autorinnen\, bekannt für bitteren Humor und eine erbarmungslose Weltsicht.  \nAm 19. Februar bringt die junge Regisseurin Julia Burger nun „Missionen der Schönheit“ als österreichische Erstaufführung ans Werk X. Im Text\, der den Untertitel „Holofernesmomente“ trägt\, kommen 8 Frauen ganz unterschiedlichen Alters (von 12 bis 75) aus ganz unterschiedlichen Orten (von Brüssel bis Kinshasa) zu Wort. Alle mit dem Namen Judit – ein direkter Bezug zur alttestamentarische Figur. Sie erzählen von Narben\, von Töten und Selbstverstümmelung\, sind Außenseiterinnen\, Sexsymbole und personifizierte Kastrationsangst. Diese Frauen sind sowohl Opfer als auch Täterinnen und entziehen sich konsequent allen klassischen Beurteilungsmustern.  \nDem Inhalt gegenüber steht die sprachliche Qualität des Textes – meist kühl und irritierend sachlich –\, wodurch das Stück die Paradoxien des Frauenlebens in unserer Gesellschaft sarkastisch zuspitzt.\nSo wird die Aufführung dieses 2010 verfassten Stückes zu einem pointierten und relevanten Kommentar zur aktuellen #metoo-Debatte. Und das obwohl oder vielleicht gerade weil die Inszenierung auf direkte Anspielungen darauf verzichtet.  \nEine Produktion von reschen.see in Kooperation mit WERK X | Text: Sibylle Berg (2010) | Regie: Julia Burger | Ausstattung: Matthias Krische | Assistenz: Natalja Kreil | Produktionsleitung: Stephan Werner | Spiel: Paola Aguilera und Anna Kramer  \nTickets: www.werk-x.at | 01 535 32 00 11 | reservierung@werk-x.at \n
URL:https://www.strawanzerin.at/termin/missionen-der-schoenheit-von-sibylle-berg/2018-02-19/
LOCATION:WERK X\, Oswaldgasse 35A\, Wien\, Wien\, 1120\, Österreich
CATEGORIES:Theater/Kabarett
ATTACH;FMTTYPE=image/jpeg:https://www.strawanzerin.at/wp-content/uploads/2018/02/Sujet-Missionen-der-Schönheit_8.jpg
GEO:48.1662859;16.3245824
X-APPLE-STRUCTURED-LOCATION;VALUE=URI;X-ADDRESS=WERK X Oswaldgasse 35A Wien Wien 1120 Österreich;X-APPLE-RADIUS=500;X-TITLE=Oswaldgasse 35A:geo:16.3245824,48.1662859
END:VEVENT
END:VCALENDAR