BEGIN:VCALENDAR
VERSION:2.0
PRODID:-//STRAWANZERIN - ECPv4.9.5//NONSGML v1.0//EN
CALSCALE:GREGORIAN
METHOD:PUBLISH
X-WR-CALNAME:STRAWANZERIN
X-ORIGINAL-URL:https://www.strawanzerin.at
X-WR-CALDESC:Veranstaltungen im STRAWANZERIN
BEGIN:VTIMEZONE
TZID:"Europe/Helsinki"
BEGIN:DAYLIGHT
TZOFFSETFROM:+0200
TZOFFSETTO:+0300
TZNAME:EEST
DTSTART:20160327T010000
END:DAYLIGHT
BEGIN:STANDARD
TZOFFSETFROM:+0300
TZOFFSETTO:+0200
TZNAME:EET
DTSTART:20161030T010000
END:STANDARD
END:VTIMEZONE
BEGIN:VEVENT
DTSTART;TZID="Europe/Helsinki":20161016T193000
DTEND;TZID="Europe/Helsinki":20161016T210000
DTSTAMP:20260421T105849
CREATED:20160722T115955Z
LAST-MODIFIED:20160725T091428Z
UID:31978-1476646200-1476651600@www.strawanzerin.at
SUMMARY:Mit einem Veilchenstrauß fängt es an - Melodien von Heinrich Strecker bis Robert Stolz
DESCRIPTION:Ingrid Merschel\, Gesang\,\nSchrammel-Quartett Die Wiener Herzen\n     Zsuzsanna Pongrácz\, Martina Beil\, Violinen\n     Karl Macourek\, Harmonika\n     Franz Horacek\, Kontragitarre \nWas Blumen alles können!\nDer Kaktus sticht\, rote Orchideen verzaubern\, der weiße Flieder und rote Rosen erzählen von Liebe\, die Rose vom Wörthersee ist eine ganz spezielle „Blume“\, mit einem Veilchenstrauß kann eine Liebe beginnen und auch enden\, Freude bereiten Tulpen aus Amsterdam\, und – ach – der rote Mohn erzählt von glücklichen Zeiten.\nEin Potpourri von Melodien und Liedern\, die von Blumen und der Liebe erzählen.\nLieder von Heinrich Strecker\, Robert Stolz\, Willi Kollo\, Fred Raymond\, Hans Lang\, Paul Abraham\, Michael Jary u.a. \nInformation und Platzreservierung 0664 / 931 00 69 \n
URL:https://www.strawanzerin.at/termin/mit-einem-veilchenstrauss-faengt-es-an-melodien-von-heinrich-strecker-bis-robert-stolz/
LOCATION:Österreich
CATEGORIES:ab 7,Deutsch,Kunst/Kultur,Musik,Niederösterreich
ATTACH;FMTTYPE=image/jpeg:https://www.strawanzerin.at/wp-content/uploads/2016/07/20161016_Schrammeln_Merschl.jpg
ORGANIZER;CN="Die%20Wiener%20Herzen":MAILTO:karl@macourek.at
END:VEVENT
END:VCALENDAR