BEGIN:VCALENDAR
VERSION:2.0
PRODID:-//STRAWANZERIN - ECPv4.9.5//NONSGML v1.0//EN
CALSCALE:GREGORIAN
METHOD:PUBLISH
X-WR-CALNAME:STRAWANZERIN
X-ORIGINAL-URL:https://www.strawanzerin.at
X-WR-CALDESC:Veranstaltungen im STRAWANZERIN
BEGIN:VTIMEZONE
TZID:"Europe/Helsinki"
BEGIN:DAYLIGHT
TZOFFSETFROM:+0200
TZOFFSETTO:+0300
TZNAME:EEST
DTSTART:20140330T010000
END:DAYLIGHT
BEGIN:STANDARD
TZOFFSETFROM:+0300
TZOFFSETTO:+0200
TZNAME:EET
DTSTART:20141026T010000
END:STANDARD
END:VTIMEZONE
BEGIN:VEVENT
DTSTART;TZID="Europe/Helsinki":20141119T070000
DTEND;TZID="Europe/Helsinki":20141119T100000
DTSTAMP:20260423T160251
CREATED:20141009T001707Z
LAST-MODIFIED:20141010T084005Z
UID:7841-1416380400-1416391200@www.strawanzerin.at
SUMMARY:"Mit Poesie durch dick und dünn"
DESCRIPTION:Lyrik und Prosaabend mit Josef Schweikhardt  \nMittwoch\, 19.11.2014 um 19 Uhr \nmit poesie durch dick & dünn\, das bedeutet für den autor\, künstler und medienforscher josef schweikhardt die lebenslange expedition in stimulierende grenzbereiche und ins abenteuerliche reich der assoziationen. die lesung wird essayistisches zum poesiebegriff und beispiele experimenteller lyrik anbieten\, sowie den unterschiedlichen versuchen einer verdichteten prosa nachgehen; und immer wieder die ironischen problemzonen zwischen wort und bild durchfliegen.\nmehr: www.josefschweikhardt.at \n
URL:https://www.strawanzerin.at/termin/mit-poesie-durch-dick-und-duenn/
LOCATION:Österreich
CATEGORIES:Deutsch,Gratis,Kunst/Kultur,Literatur,Wien
ATTACH;FMTTYPE=:
END:VEVENT
END:VCALENDAR