BEGIN:VCALENDAR
VERSION:2.0
PRODID:-//STRAWANZERIN - ECPv4.9.5//NONSGML v1.0//EN
CALSCALE:GREGORIAN
METHOD:PUBLISH
X-WR-CALNAME:STRAWANZERIN
X-ORIGINAL-URL:https://www.strawanzerin.at
X-WR-CALDESC:Veranstaltungen im STRAWANZERIN
BEGIN:VTIMEZONE
TZID:"Europe/Helsinki"
BEGIN:DAYLIGHT
TZOFFSETFROM:+0200
TZOFFSETTO:+0300
TZNAME:EEST
DTSTART:20160327T010000
END:DAYLIGHT
BEGIN:STANDARD
TZOFFSETFROM:+0300
TZOFFSETTO:+0200
TZNAME:EET
DTSTART:20161030T010000
END:STANDARD
END:VTIMEZONE
BEGIN:VEVENT
DTSTART;TZID="Europe/Helsinki":20160301T193000
DTEND;TZID="Europe/Helsinki":20160301T210000
DTSTAMP:20260423T195829
CREATED:20160205T120100Z
LAST-MODIFIED:20160205T120100Z
UID:24086-1456860600-1456866000@www.strawanzerin.at
SUMMARY:Monika Grill Weltenwandern
DESCRIPTION:Texte von Monika Grill\, begleitet von den Liedern Willie Nelsons und den Worten von Frederic Morton und Thomas Merton. \n
URL:https://www.strawanzerin.at/termin/monika-grill-weltenwandern/
LOCATION:Österreich
CATEGORIES:Deutsch,Gratis,Kunst/Kultur,Literatur,Wien
ATTACH;FMTTYPE=image/jpeg:https://www.strawanzerin.at/wp-content/uploads/2016/01/Monika-Grill-2-web.jpg
ORGANIZER;CN="Verein%20Welt%26amp%3BCo":MAILTO:awoschitz@gmx.at
END:VEVENT
END:VCALENDAR