BEGIN:VCALENDAR
VERSION:2.0
PRODID:-//STRAWANZERIN - ECPv4.9.5//NONSGML v1.0//EN
CALSCALE:GREGORIAN
METHOD:PUBLISH
X-WR-CALNAME:STRAWANZERIN
X-ORIGINAL-URL:https://www.strawanzerin.at
X-WR-CALDESC:Veranstaltungen im STRAWANZERIN
BEGIN:VTIMEZONE
TZID:"Europe/Vienna"
BEGIN:DAYLIGHT
TZOFFSETFROM:+0100
TZOFFSETTO:+0200
TZNAME:CEST
DTSTART:20250330T010000
END:DAYLIGHT
BEGIN:STANDARD
TZOFFSETFROM:+0200
TZOFFSETTO:+0100
TZNAME:CET
DTSTART:20251026T010000
END:STANDARD
END:VTIMEZONE
BEGIN:VEVENT
DTSTART;TZID="Europe/Vienna":20250125T200000
DTEND;TZID="Europe/Vienna":20250125T220000
DTSTAMP:20260423T123329
CREATED:20241108T130732Z
LAST-MODIFIED:20241108T130732Z
UID:104480-1737835200-1737842400@www.strawanzerin.at
SUMMARY:Monti Beton »Elvis Night«
DESCRIPTION:ELVIS PRESLEY 90! Immer noch jünger als etwa Willie Nelson (der nach wie vor aktiv ist) und doch schon so lange von uns gegangen – und das\, ohne auch nur einen Funken an musikalischer Relevanz einzubüßen. \nMONTI BETON lebt die Begeisterung für die Musik von Elvis seit bereits 32 Jahren konzertant in deren mittlerweile durchaus als „legendär“ zu bezeichnenden „Happy Birthday\, Elvis“ Shows. Jedes Jahr bietet die Wiener Kultband eine umfassende Werkschau des „King Of Rock’n’Roll“ in Form seiner größten und wichtigsten Hits\, aber immer auch mit einer Reihe von etwas weniger bekannten Songperlen aus dem riesengroßen Musik-Katalog des Künstlers. \nWie immer präsentieren sie dabei auch eine ganze Reihe von vom Publikum so geschätzten Hintergrund-Informationen zu den Songs und zu den verschiedenen Stationen in der Karriere von Elvis Presley: Seien es die wilden 1950er Jahre mit legendären Titeln wie „That´s All Right“\, „Don´t Be Cruel“ und „Jailhouse Rock“ oder die von vielen Elvis-Movies begleiteten 1960er Jahre mit Titeln wie „Flaming Star“\, „Return To Sender“ und „Viva Las Vegas“\, die letztendlich in so großartigen Songs wie „If I Can Dream“\, „In The Ghetto“ und „Suspicious Minds“ münden sollten und schließlich in den 1970ern wahrlich herzzerreißende Balladen wie „Always On My Mind“ und „My Boy“ hervorbrachten. \nEine der aufsehenerregendsten Langspiel-Platten von Elvis kam 1958 auf den Markt und wurde schlicht mit „50.000.000 Elvis Fans Can´t Be Wrong“ betitelt. MONTI BETONs „Elvis Nights“ konnten seit 1992 ebenfalls bereits mehrere tausend Fans begeistern und werden es auch 2025 wieder tun! \n
URL:https://www.strawanzerin.at/termin/monti-beton-elvis-night/
LOCATION:Papierfabrik Varieté\, Kirchenplatz 9\, Kleinneusiedl\, Niederösterreich\, 2431
CATEGORIES:Musik,Niederösterreich
ATTACH;FMTTYPE=image/jpeg:https://www.strawanzerin.at/wp-content/uploads/2024/11/Monti-Beton-c-MontiBeton.jpg
ORGANIZER;CN="Papierfabrik%20Variet%C3%A9":MAILTO:info@papierfabrik-variete.com
END:VEVENT
END:VCALENDAR