BEGIN:VCALENDAR
VERSION:2.0
PRODID:-//STRAWANZERIN - ECPv4.9.5//NONSGML v1.0//EN
CALSCALE:GREGORIAN
METHOD:PUBLISH
X-WR-CALNAME:STRAWANZERIN
X-ORIGINAL-URL:https://www.strawanzerin.at
X-WR-CALDESC:Veranstaltungen im STRAWANZERIN
BEGIN:VTIMEZONE
TZID:"Europe/Vienna"
BEGIN:DAYLIGHT
TZOFFSETFROM:+0100
TZOFFSETTO:+0200
TZNAME:CEST
DTSTART:20230326T010000
END:DAYLIGHT
BEGIN:STANDARD
TZOFFSETFROM:+0200
TZOFFSETTO:+0100
TZNAME:CET
DTSTART:20231029T010000
END:STANDARD
END:VTIMEZONE
BEGIN:VEVENT
DTSTART;TZID="Europe/Vienna":20231020T190000
DTEND;TZID="Europe/Vienna":20231020T203000
DTSTAMP:20260420T133426
CREATED:20231002T130044Z
LAST-MODIFIED:20231002T130044Z
UID:94437-1697828400-1697833800@www.strawanzerin.at
SUMMARY:»Mord auf Krankenschein«: Krimi-Lesung in Ottakring
DESCRIPTION:Nach rund 300 veröffentlichten Songtexten\, fünf Romanen und drei Krimis mit dem kantig-grantigen Kommissar Eckensperger liest die schreibfreudige Autorin Lis Levell am Freitag\, dem 20. Oktober 2023\, um 19 Uhr aus ihrem Buch »Mord auf Krankenschein«. An ihrer Seite glänzt Musikpartner Jonny Blue an Ukulele und in vielfältigen Rollen. Unterhaltung\, Kurzweil und Humor sind garantiert! Eintritt frei. \nZeit:\nFreitag\, 20. Oktober 2023\, 19 Uhr (ab 18 Uhr warmes hausgemachtes Buffet) \nOrt:\nStubenhocker\, Wattgasse 23\, 1160 Wien \nNächste musikalische Lesungen mit Lis Levell und Jonny Blue:\n16. November 2023\, 18 Uhr im Rahmen der Ausstellung »Ups and Downs« im Festsaal der Bezirksvorstehung Margareten\, Schönbrunner Straße 54\, 1050 Wien\n23. November 2023\, 19 Uhr ein bunter Lesungsmix im Rahmen des VOET-Live-Events im Brick 15\, Herklotzgasse 21\, 1150 Wien \nBild: Autorin Lis Levell\, Foto/© www.lis-levell.com \n
URL:https://www.strawanzerin.at/termin/mord-auf-krankenschein-krimi-lesung-in-ottakring/
LOCATION:Stubenhocker\, Wattgasse 23\, Wien\, Wien\, 1110\, Österreich
CATEGORIES:Gratis,Literatur,Wien
ATTACH;FMTTYPE=image/jpeg:https://www.strawanzerin.at/wp-content/uploads/2023/10/Lis-Levell-Portraet-1-RGB.jpg
END:VEVENT
END:VCALENDAR