BEGIN:VCALENDAR
VERSION:2.0
PRODID:-//STRAWANZERIN - ECPv4.9.5//NONSGML v1.0//EN
CALSCALE:GREGORIAN
METHOD:PUBLISH
X-WR-CALNAME:STRAWANZERIN
X-ORIGINAL-URL:https://www.strawanzerin.at
X-WR-CALDESC:Veranstaltungen im STRAWANZERIN
BEGIN:VTIMEZONE
TZID:"Europe/Vienna"
BEGIN:DAYLIGHT
TZOFFSETFROM:+0100
TZOFFSETTO:+0200
TZNAME:CEST
DTSTART:20180325T010000
END:DAYLIGHT
BEGIN:STANDARD
TZOFFSETFROM:+0200
TZOFFSETTO:+0100
TZNAME:CET
DTSTART:20181028T010000
END:STANDARD
END:VTIMEZONE
BEGIN:VEVENT
DTSTART;TZID="Europe/Vienna":20180414T120000
DTEND;TZID="Europe/Vienna":20180414T190000
DTSTAMP:20260422T151009
CREATED:20180316T203124Z
LAST-MODIFIED:20180419T093151Z
UID:53581-1523707200-1523732400@www.strawanzerin.at
SUMMARY:Moritz Nahold: a sounding language story
DESCRIPTION:„Die Grenzen meiner Sprache bedeuten die Grenzen meiner Welt“ – ausgehend von diesem Zitat des Philosophen Ludwig Wittgenstein hat sich der junge Klangkünstler Moritz Nahold im Sommer 2017 auf eine Reise durch die angrenzenden Trigon-Staaten Ungarn\, Serbien\, Montenegro\, Bosnien und Kroatien begeben.  \nMit einem Recorder und unterschiedlichen Instrumenten ausgestattet\, ging es für Nahold darum\, Grenzen zu durchbrechen\, die nicht nur durch Sprache und kulturelle Unterschiede existieren\, sondern sich auch durch Mauern und Zäune manifestieren können. Das Resultat ist eine Klangkomposition\, geschickt verpackt in einem stählernen Resonanzkörper: Moritz Nahold arbeitete dafür mit dem Künstler Benjamin Thiele zusammen.  \nGemeinsam entwickelten sie eine vielschichtige\, Artischocken-artige Stahlkonstruktion\, die – über acht Körperschallwandler – die Klangkomposition einer dreiwöchigen Abenteuerreise durch unterschiedliche Städte und Landschaften zum Klingen bringt. \n
URL:https://www.strawanzerin.at/termin/moritz-nahold-a-sounding-language-story/2018-04-14/
LOCATION:Kunstfabrik Groß Siegharts\, Karlsteiner Straße 4\, Groß-Siegharts\, Niederösterreich\, 3812\, Österreich
CATEGORIES:Ausstellung
ATTACH;FMTTYPE=image/jpeg:https://www.strawanzerin.at/wp-content/uploads/2018/03/MoritzNahold_©paula-tschira-3.jpg
ORGANIZER;CN="Galerien%20Thayaland":MAILTO:franzpart9@gmail.com
GEO:48.791901;15.4039756
X-APPLE-STRUCTURED-LOCATION;VALUE=URI;X-ADDRESS=Kunstfabrik Groß Siegharts Karlsteiner Straße 4 Groß-Siegharts Niederösterreich 3812 Österreich;X-APPLE-RADIUS=500;X-TITLE=Karlsteiner Straße 4:geo:15.4039756,48.791901
END:VEVENT
END:VCALENDAR