BEGIN:VCALENDAR
VERSION:2.0
PRODID:-//STRAWANZERIN - ECPv4.9.5//NONSGML v1.0//EN
CALSCALE:GREGORIAN
METHOD:PUBLISH
X-WR-CALNAME:STRAWANZERIN
X-ORIGINAL-URL:https://www.strawanzerin.at
X-WR-CALDESC:Veranstaltungen im STRAWANZERIN
BEGIN:VTIMEZONE
TZID:"Europe/Vienna"
BEGIN:DAYLIGHT
TZOFFSETFROM:+0100
TZOFFSETTO:+0200
TZNAME:CEST
DTSTART:20240331T010000
END:DAYLIGHT
BEGIN:STANDARD
TZOFFSETFROM:+0200
TZOFFSETTO:+0100
TZNAME:CET
DTSTART:20241027T010000
END:STANDARD
END:VTIMEZONE
BEGIN:VEVENT
DTSTART;TZID="Europe/Vienna":20240507T170000
DTEND;TZID="Europe/Vienna":20240507T210000
DTSTAMP:20260420T233701
CREATED:20240425T154257Z
LAST-MODIFIED:20240425T154257Z
UID:98202-1715101200-1715115600@www.strawanzerin.at
SUMMARY:Most & Musik
DESCRIPTION:Vinyl- und CD-Flohmarkt:\nDie Gesellschaft für Streuobstkulturen und Supplementäres (GeSOKS) lädt zur Frühlingsauflage des gemischten Doppels „Most & Musik“: Neben aus Äpfeln und Birnen gekelterten feinsten Tropfen werden Secondhand-Tonträger feilgeboten. Die sonore Flohmarktware stammt ausschließlich aus nichtkommerziell agierenden Privathaushalten. \n
URL:https://www.strawanzerin.at/termin/most-musik-3/
LOCATION:Volkskundemuseum Wien\, Laudongasse 15019\, Wien\, 1080\, Österreich
CATEGORIES:Flohmarkt
ATTACH;FMTTYPE=image/jpeg:https://www.strawanzerin.at/wp-content/uploads/2024/04/mostmusik©Mario_Lang-scaled.jpg
ORGANIZER;CN="GeSOKS":MAILTO:mostgesoks@gmail.com
END:VEVENT
END:VCALENDAR