BEGIN:VCALENDAR
VERSION:2.0
PRODID:-//STRAWANZERIN - ECPv4.9.5//NONSGML v1.0//EN
CALSCALE:GREGORIAN
METHOD:PUBLISH
X-WR-CALNAME:STRAWANZERIN
X-ORIGINAL-URL:https://www.strawanzerin.at
X-WR-CALDESC:Veranstaltungen im STRAWANZERIN
BEGIN:VTIMEZONE
TZID:"Europe/Helsinki"
BEGIN:DAYLIGHT
TZOFFSETFROM:+0200
TZOFFSETTO:+0300
TZNAME:EEST
DTSTART:20150329T010000
END:DAYLIGHT
BEGIN:STANDARD
TZOFFSETFROM:+0300
TZOFFSETTO:+0200
TZNAME:EET
DTSTART:20151025T010000
END:STANDARD
END:VTIMEZONE
BEGIN:VEVENT
DTSTART;TZID="Europe/Helsinki":20150307T193000
DTEND;TZID="Europe/Helsinki":20150307T220000
DTSTAMP:20260420T182924
CREATED:20150216T170829Z
LAST-MODIFIED:20150219T172952Z
UID:11280-1425756600-1425765600@www.strawanzerin.at
SUMMARY:MRS. HENRY AND THE FLYING FISH • live [+WE LOVE SILENCE]
DESCRIPTION:► MRS. HENRY AND THE FLYING FISH\nGloria Amesbauer – comp/voc/guit/uku\nMichael Bruckner – guitars/voc\nFlorian Weisch – db/voc \nSUPPORT:\n► WE LOVE SILENCE\nLukas Staudinger \n€ 4 bis 10\,- (you decide!) \n++++++++++++++++++++++++++++++++++++++++++ \nMRS. HENRY AND THE FLYING FISH\nselfmade alternative melancholia flying pop \nfliegende fische vegane einhörner durchgezählte teetassen deren namen man vergessen hat im regen stehend wasser und wein trinkend tina ist auch eine gute freundin kommt manchmal mit nach robotierien hört sich das quaken der frösche an mitten im märz kontra ukulelen klingen anders als antike tennisschläger ganz zum schluss gibt es keine happy ends denn das leben geht weiter und bleibt spannend. \nwww.flyingfishmusic.com\n\nwww.youtube.com/user/MrsHenryandtheFF\nwww.facebook.com/MissesHenry \n+\nWE LOVE SILENCE\nPostapocalyptic-Chillout-Singer/Songwriter. \nHohe Minne\, tiefes Empfinden Der Singer/Songwriter Lukas Staudinger berührt mit einer Sprache der Stille. Er zeichnet romantische Bilder\, in denen die geheimnisvolle Prinzessin für die Schönheit des „Ungreifbaren“ eintritt\, und wo Bäume und Flüsse zu einem alten Märchenkönig sprechen. Zu singender Hingabe gesellt sich anmutiges Gitarrenspiel\, welches gern auch mit der edlen Handschrift eines Johann Sebastian liebäugelt. \n\nhttps://www.facebook.com/welovesilence \n
URL:https://www.strawanzerin.at/termin/mrs-henry-and-the-flying-fish-%e2%80%a2-live-we-love-silence/
LOCATION:Österreich
CATEGORIES:bis 7,Kunst/Kultur,Musik,Wien
ATTACH;FMTTYPE=:
END:VEVENT
END:VCALENDAR