BEGIN:VCALENDAR
VERSION:2.0
PRODID:-//STRAWANZERIN - ECPv4.9.5//NONSGML v1.0//EN
CALSCALE:GREGORIAN
METHOD:PUBLISH
X-WR-CALNAME:STRAWANZERIN
X-ORIGINAL-URL:https://www.strawanzerin.at
X-WR-CALDESC:Veranstaltungen im STRAWANZERIN
BEGIN:VTIMEZONE
TZID:"Europe/Vienna"
BEGIN:DAYLIGHT
TZOFFSETFROM:+0100
TZOFFSETTO:+0200
TZNAME:CEST
DTSTART:20200329T010000
END:DAYLIGHT
BEGIN:STANDARD
TZOFFSETFROM:+0200
TZOFFSETTO:+0100
TZNAME:CET
DTSTART:20201025T010000
END:STANDARD
END:VTIMEZONE
BEGIN:VEVENT
DTSTART;TZID="Europe/Vienna":20201003T180000
DTEND;TZID="Europe/Vienna":20201003T230000
DTSTAMP:20260419T164200
CREATED:20200918T111610Z
LAST-MODIFIED:20200918T111638Z
UID:75600-1601748000-1601766000@www.strawanzerin.at
SUMMARY:MUSAO Museum auf Abwegen Ottakring - Museum astray Ottakring
DESCRIPTION:Eröffnung Samstag 3. Okt. 18-23 Uhr \nam Eröffnungstag ist die Grundsteingasse Fußgängerzone\n1160 Wien / Ottakring \nDauer: 3 – 17. Okt. 2020\nÖffnungszeiten: Mi-Sa 17-20 Uhr\nFinissage: Sa 17. Okt. ab 17 Uhr \nFür die Ausstellungsorte sowie Performances gelten\ndie aktuellen Covid-19 Verordnungen.\nIn den Räumen ist das Tragen eines Mund-Nasen-Schutz verpflichtend \nAnimation Installation Malerei Sound Skulptur Design\nProjektion Performance Fotografie Film/Video \n
URL:https://www.strawanzerin.at/termin/musao-museum-auf-abwegen-ottakring-museum-astray-ottakring-4/2020-10-03/
LOCATION:Grundsteingasse 1160 Wien\, Grundsteingasse \, Wien\, Wien\, 1160\, Österreich
CATEGORIES:Ausstellung,Gratis,Kunst/Kultur
ATTACH;FMTTYPE=image/jpeg:https://www.strawanzerin.at/wp-content/uploads/2020/09/MUSAO_logo2020.jpg
GEO:48.2099439;16.3357322
X-APPLE-STRUCTURED-LOCATION;VALUE=URI;X-ADDRESS=Grundsteingasse 1160 Wien Grundsteingasse  Wien Wien 1160 Österreich;X-APPLE-RADIUS=500;X-TITLE=Grundsteingasse:geo:16.3357322,48.2099439
END:VEVENT
END:VCALENDAR