BEGIN:VCALENDAR
VERSION:2.0
PRODID:-//STRAWANZERIN - ECPv4.9.5//NONSGML v1.0//EN
CALSCALE:GREGORIAN
METHOD:PUBLISH
X-WR-CALNAME:STRAWANZERIN
X-ORIGINAL-URL:https://www.strawanzerin.at
X-WR-CALDESC:Veranstaltungen im STRAWANZERIN
BEGIN:VTIMEZONE
TZID:"Europe/Vienna"
BEGIN:DAYLIGHT
TZOFFSETFROM:+0100
TZOFFSETTO:+0200
TZNAME:CEST
DTSTART:20170326T010000
END:DAYLIGHT
BEGIN:STANDARD
TZOFFSETFROM:+0200
TZOFFSETTO:+0100
TZNAME:CET
DTSTART:20171029T010000
END:STANDARD
END:VTIMEZONE
BEGIN:VEVENT
DTSTART;TZID="Europe/Vienna":20170916T170000
DTEND;TZID="Europe/Vienna":20170916T200000
DTSTAMP:20260422T093626
CREATED:20170828T071517Z
LAST-MODIFIED:20170828T071517Z
UID:46168-1505581200-1505592000@www.strawanzerin.at
SUMMARY:MUSAO - Museum auf Abwegen Ottakring / Museum astray Ottakring
DESCRIPTION:Vernissage: Samstag 16. September 2017\, 18:00 Uhr\nEröffnung durch Bezirksvorsteher Franz Prokop\nAm Eröffnungstag ist die Grundsteingasse Fußgängerzone \nDauer: Sa\, 16.– Sa\, 30. September 2017\nÖffnungszeiten: Mi-Sa\, 17:00-20:00 Uhr\nFinissage: Samstag 30. September 2017\, ab 17:00 Uhr\nOrt: Ausstellungsräume und öffentlicher Raum in der Grundsteingasse (1160 Wien) \nMUSAO („Museum auf Abwegen Ottakring“) ist eine\, in Rahmen des Kunstprojekts „Grundstein”\, von KünstlerInnen organisierte Ausstellungsreihe in den Ausstellungsräumen entlang der Grundsteingasse (1160\, Brunnenviertel).  \nKünstlerInnen aus allen Bereichen der bildenden Kunst präsentieren ihre Arbeiten in Galerien\, Projekträumen\, Ateliers und im öffentlichen Raum. \nIm Rahmen der Vernissage und der Finissage finden neben den Ausstellungen in den Kunsträumen\, auch Performances und Konzerte im öffentlichen Raum in der Grundsteingasse statt.  \nMUSAO steht für eine neue Museumskultur\, die auf die Menschen zugeht. Weg von der abgeschotteten Museumspolitik in Wien mit hohen Eintrittspreisen und einer Konzentration im Zentrum der Stadt.\nEin Museum außerhalb des Gürtels ist nicht abwegig\, sondern bereits mit/in der Grundsteingasse in Ottakring realisiert. Das MUSAO punktet mit freiem Eintritt\, bezieht sich auf den öffentlichen Raum (die gesamte Grundsteingasse).  \n
URL:https://www.strawanzerin.at/termin/musao-museum-auf-abwegen-ottakring-museum-astray-ottakring/2017-09-16/
CATEGORIES:Kunst/Kultur
ATTACH;FMTTYPE=image/jpeg:https://www.strawanzerin.at/wp-content/uploads/2017/08/MUSAO_2017_Sujet.jpg
END:VEVENT
END:VCALENDAR