BEGIN:VCALENDAR
VERSION:2.0
PRODID:-//STRAWANZERIN - ECPv4.9.5//NONSGML v1.0//EN
CALSCALE:GREGORIAN
METHOD:PUBLISH
X-WR-CALNAME:STRAWANZERIN
X-ORIGINAL-URL:https://www.strawanzerin.at
X-WR-CALDESC:Veranstaltungen im STRAWANZERIN
BEGIN:VTIMEZONE
TZID:"Europe/Vienna"
BEGIN:DAYLIGHT
TZOFFSETFROM:+0100
TZOFFSETTO:+0200
TZNAME:CEST
DTSTART:20190331T010000
END:DAYLIGHT
BEGIN:STANDARD
TZOFFSETFROM:+0200
TZOFFSETTO:+0100
TZNAME:CET
DTSTART:20191027T010000
END:STANDARD
END:VTIMEZONE
BEGIN:VEVENT
DTSTART;TZID="Europe/Vienna":20190411T190000
DTEND;TZID="Europe/Vienna":20190411T200000
DTSTAMP:20260420T164424
CREATED:20190322T145828Z
LAST-MODIFIED:20190403T081626Z
UID:63060-1555009200-1555012800@www.strawanzerin.at
SUMMARY:Musik\, die aus dem Bauch kommt. ElaF & Andreas Broger
DESCRIPTION:Der Jazzsaoxofonist Andreas Broger trifft auf die Stimm- und Klangkünstlerin ElaF. Gemeinsam erschaffen sie einen Raum\, in dem Musik erlebbar wird. Das Prinzip des „Nada brahma“ – „Die Welt ist Klang“ wird in diesem Konzert aufgegriffen.\nIn diesen 60 Minuten werden Sie erfahren\, dass Zeit im Grunde keine Rolle spielt. Die Wirkung von Musik und von Farben werden Sie mit Körper und mit Geist erfahren.\nFreuen Sie sich auf eine einzigartige Reise! \nwww.elaf.at – www.andreas-broger.com \n
URL:https://www.strawanzerin.at/termin/musik-die-aus-dem-bauch-kommt-elaf-andreas-broger/
LOCATION:Govinda\, Lindengasse 2A\, Wien\, Wien\, 1070\, Österreich
CATEGORIES:Musik
ATTACH;FMTTYPE=image/jpeg:https://www.strawanzerin.at/wp-content/uploads/2019/03/BT5A0756-Bearbeitet-3-Kopie.jpg
ORGANIZER;CN="ElaF%20-%20Wohlf%C3%BChlen%20mit%20Stimme%20und%20Klang":MAILTO:office@elaf.at
GEO:48.2014135;16.3544585
X-APPLE-STRUCTURED-LOCATION;VALUE=URI;X-ADDRESS=Govinda Lindengasse 2A Wien Wien 1070 Österreich;X-APPLE-RADIUS=500;X-TITLE=Lindengasse 2A:geo:16.3544585,48.2014135
END:VEVENT
END:VCALENDAR