BEGIN:VCALENDAR
VERSION:2.0
PRODID:-//STRAWANZERIN - ECPv4.9.5//NONSGML v1.0//EN
CALSCALE:GREGORIAN
METHOD:PUBLISH
X-WR-CALNAME:STRAWANZERIN
X-ORIGINAL-URL:https://www.strawanzerin.at
X-WR-CALDESC:Veranstaltungen im STRAWANZERIN
BEGIN:VTIMEZONE
TZID:"Europe/Vienna"
BEGIN:DAYLIGHT
TZOFFSETFROM:+0100
TZOFFSETTO:+0200
TZNAME:CEST
DTSTART:20250330T010000
END:DAYLIGHT
BEGIN:STANDARD
TZOFFSETFROM:+0200
TZOFFSETTO:+0100
TZNAME:CET
DTSTART:20251026T010000
END:STANDARD
END:VTIMEZONE
BEGIN:VEVENT
DTSTART;TZID="Europe/Vienna":20250503T110000
DTEND;TZID="Europe/Vienna":20250503T123000
DTSTAMP:20260420T150926
CREATED:20250410T143152Z
LAST-MODIFIED:20250410T143152Z
UID:107245-1746270000-1746275400@www.strawanzerin.at
SUMMARY:MUSiK.MARKT\, Bio Markt\, SERGE ÖHN
DESCRIPTION:Unter dem Motto „Neue Wiener Lieder“ veranstaltet BASiS.KULTUR.WiEN im Mai gemeinsam mit dem Marktamt MA59 die jährliche Konzertreihe MUSiK.MARKT.\nSERGE ÖHN – Chansons für den Fünf-Uhr-Tee im leeren Chinarestaurant. Mit Mundart-gerechtem hors d’oeuvre froid und Geschichten aus den Ritzen der Vorstadt. \n
URL:https://www.strawanzerin.at/termin/musik-markt-bio-markt-serge-oehn/
LOCATION:1080 Wien\, Lange Gasse\, Lange Gasse (zwischen Josefstädter Straße und Josefsgasse)\, Wien\, Wien\, 1080\, Österreich
CATEGORIES:Gratis
ATTACH;FMTTYPE=image/jpeg:https://www.strawanzerin.at/wp-content/uploads/2025/04/Serge-OeHN_1cSergeOeHN.jpg
ORGANIZER;CN="Basis.Kultur.Wien":MAILTO:presse@basiskultur.at
END:VEVENT
END:VCALENDAR