BEGIN:VCALENDAR
VERSION:2.0
PRODID:-//STRAWANZERIN - ECPv4.9.5//NONSGML v1.0//EN
CALSCALE:GREGORIAN
METHOD:PUBLISH
X-WR-CALNAME:STRAWANZERIN
X-ORIGINAL-URL:https://www.strawanzerin.at
X-WR-CALDESC:Veranstaltungen im STRAWANZERIN
BEGIN:VTIMEZONE
TZID:"Europe/Helsinki"
BEGIN:DAYLIGHT
TZOFFSETFROM:+0200
TZOFFSETTO:+0300
TZNAME:EEST
DTSTART:20150329T010000
END:DAYLIGHT
BEGIN:STANDARD
TZOFFSETFROM:+0300
TZOFFSETTO:+0200
TZNAME:EET
DTSTART:20151025T010000
END:STANDARD
END:VTIMEZONE
BEGIN:VEVENT
DTSTART;TZID="Europe/Helsinki":20151206T200000
DTEND;TZID="Europe/Helsinki":20151206T200000
DTSTAMP:20260422T005833
CREATED:20151108T172852Z
LAST-MODIFIED:20151111T125923Z
UID:21545-1449432000-1449432000@www.strawanzerin.at
SUMMARY:Musikalischer Adventkalender: Bernhard Eder/Fräulein Hona
DESCRIPTION:Doppelkonzert im Rahmen des Musikalischen Adventkalenders 2015: Zuerst spielt der im TAG bereits mehrfache bewährte Bernhard Eder aus seinem neuesten Album „Nonsleepers“\, anschließend begeistern die vier jungen Vielinstrumentalistinnen und Sängerinnen von Fräulein Hona das Publikum mit ihrer außergewöhnlichen Musik jenseits der Genregrenzen. Ein besonderer musikalischer Abend gegen den Strom der üblichen Weihnachtsklänge. \nKARTEN VVK und online 15 Euro\, AK 18 Euro \nVorverkauf über die TAG-Kassa und www.wienerlied-und.at \n
URL:https://www.strawanzerin.at/termin/musikalischer-adventkalender-bernhard-ederfraeulein-hona/
CATEGORIES:ab 7,Deutsch,Theater/Kabarett,Wien
ORGANIZER;CN="TAG%20-%20Theater%20an%20der%20Gumpendorfer%20Stra%C3%9Fe":MAILTO:karten@dastag.at
END:VEVENT
END:VCALENDAR