BEGIN:VCALENDAR
VERSION:2.0
PRODID:-//STRAWANZERIN - ECPv4.9.5//NONSGML v1.0//EN
CALSCALE:GREGORIAN
METHOD:PUBLISH
X-WR-CALNAME:STRAWANZERIN
X-ORIGINAL-URL:https://www.strawanzerin.at
X-WR-CALDESC:Veranstaltungen im STRAWANZERIN
BEGIN:VTIMEZONE
TZID:"Europe/Paris"
BEGIN:DAYLIGHT
TZOFFSETFROM:+0100
TZOFFSETTO:+0200
TZNAME:CEST
DTSTART:20150329T010000
END:DAYLIGHT
BEGIN:STANDARD
TZOFFSETFROM:+0200
TZOFFSETTO:+0100
TZNAME:CET
DTSTART:20151025T010000
END:STANDARD
END:VTIMEZONE
BEGIN:VEVENT
DTSTART;TZID="Europe/Paris":20150508T193000
DTEND;TZID="Europe/Paris":20150508T210000
DTSTAMP:20260420T174910
CREATED:20150504T094223Z
LAST-MODIFIED:20150510T172147Z
UID:14404-1431113400-1431118800@www.strawanzerin.at
SUMMARY:MYTHOS MEIDLING - AUSGEWÄHLTE PRODUKTIONEN
DESCRIPTION:Ausgewählte Produktionen aus der Eröffnung\nBühne: Erich Sperger\nKostüme: Tina Prichenfried\nDramaturgie: Susanne Fernandes Silva  \nStadt ist Lebensraum für Menschen\, Stadt ist Gesellschaft\, Stadt ist in jüngster Zeit immer öfter auch Beute – und Stadt ist historisches Archiv\, umso mehr in Wien\, wo jeder Quadratmeter eine mehrhundertjährige Geschichte zu haben scheint. Dies gilt keinesfalls nur für die Bezirke innerhalb des Gürtels sondern gleichermaßen für den 12. Gemeindebezirk Meidling\, der sich in den vergangenen 100 Jahren aus einigen landwirtschaftlich geprägten Dörfern erst zu einem von Fabriken dominierten Arbeiterstadtteil und später zum heutigen Wohnbezirk gewandelt hat.\nDoch die Geschichte\, die Meidling geprägt hat\, unterscheidet sich maßgeblich von den dominanten Wien-Klischees\, denn anders als die innerstädtischen Bezirke ist die Historie des „Zwölften“ weniger mit dem Glanz der alten Donaumonarchie als mit dem Aufstieg des industriellen Kapitalismus verbunden. Im Unterschied zur herausgeputzten Innenstadt ist Meidling daher bis heute weniger geprägt vom Distinktionswillen des Bürgertums als von der Kultur der kleinen Leute\, dem Leben der Kleinbürger und Arbeiter.\nBis heute steht Meidling für ein anderes\, ein härteres und raueres Wien\, dem im Eröffnungsprojekt des neuen WERK X nachgegangen wurde. In 8 Uraufführungen beschäftigten sich die AutorInnen Tex Rubinowitz\, Kurt Palm\, Robert Misik\, Ulrike Syha\, Robert Woelfl\, Bernhard Studlar\, Sebastian Brauneis und Barbara Ungepflegt an den unterschiedlichsten Orten Meidlings mit seiner Gegenwart\, Geschichte und seinem Mythos. Ausgewählte Produktionen aus unserem Eröffnungswochenende wurden in den WERK X-Spielplan übernommen:\nSTALIN IN MEIDLING. EINE VOLKSBILDNERISCHE INTERVENTION von und mit Kurt Palm\nInszenierung: Kurt Palm\nDAS PROJEKT von Ulrike Syha\nInszenierung: Fanny Brunner\nMit: Katrin Grumeth\, Ali M. Abdullah\, Paul König \nEinheitspreis: 12€ \n
URL:https://www.strawanzerin.at/termin/mythos-meidling-ausgewaehlte-produktionen-3/
LOCATION:WERK X\, Oswaldgasse 35A\, Wien\, Wien\, 1120\, Österreich
CATEGORIES:Deutsch,Eintrittspreis,Theater/Kabarett,Wien
ATTACH;FMTTYPE=image/jpeg:https://www.strawanzerin.at/wp-content/uploads/2015/05/syha2S.jpg
ORGANIZER;CN="WERK%20X":MAILTO:buero@werk-x.at
GEO:48.1662859;16.3245824
X-APPLE-STRUCTURED-LOCATION;VALUE=URI;X-ADDRESS=WERK X Oswaldgasse 35A Wien Wien 1120 Österreich;X-APPLE-RADIUS=500;X-TITLE=Oswaldgasse 35A:geo:16.3245824,48.1662859
END:VEVENT
END:VCALENDAR