BEGIN:VCALENDAR
VERSION:2.0
PRODID:-//STRAWANZERIN - ECPv4.9.5//NONSGML v1.0//EN
CALSCALE:GREGORIAN
METHOD:PUBLISH
X-WR-CALNAME:STRAWANZERIN
X-ORIGINAL-URL:https://www.strawanzerin.at
X-WR-CALDESC:Veranstaltungen im STRAWANZERIN
BEGIN:VTIMEZONE
TZID:"Europe/Vienna"
BEGIN:DAYLIGHT
TZOFFSETFROM:+0100
TZOFFSETTO:+0200
TZNAME:CEST
DTSTART:20240331T010000
END:DAYLIGHT
BEGIN:STANDARD
TZOFFSETFROM:+0200
TZOFFSETTO:+0100
TZNAME:CET
DTSTART:20241027T010000
END:STANDARD
END:VTIMEZONE
BEGIN:VEVENT
DTSTART;TZID="Europe/Vienna":20240506T190000
DTEND;TZID="Europe/Vienna":20240506T190000
DTSTAMP:20260420T193221
CREATED:20240330T164522Z
LAST-MODIFIED:20240330T164522Z
UID:97795-1715022000-1715022000@www.strawanzerin.at
SUMMARY:Nach der Flucht das Lager // Buchpräsentation
DESCRIPTION:Während des Zweiten Weltkriegs und teilweise schon davor wurden Jüd*innen sowie andere Verfolgte des NS-Regimes in europäischen und außereuropäischen Zufluchtsländern unter oft menschenunwürdigen Bedingungen in Lager gesperrt. Die Internierung Geflüchteter ist in vielen Staaten bis heute gängige Praxis. Auch der Plan der EU\, Asylverfahren an die Außengrenzen der Staatengemeinschaft oder in Drittländer auszulagern\, steht in diesem Kontext. Zwei Sammelbände behandeln das Thema\, auch aus der Perspektive Betroffener. \nGabriele Anderl\, Wissenschaftlerin und Autorin\, Wien\nHerbert Langthaler\, Asylexperte\, Wien\nChristoph Reinprecht\, Soziologe\, Universität Wien\nPnina Rosenberg\, Kunsthistorikerin\, Universität Haifa \nGabriele Anderl (Hg.)\, Hinter verschlossenen Toren. Die Internierung von Geflüchteten von den 1930er Jahren bis in die Gegenwart\, Wien: Theodor Kramer Gesellschaft 2023 \nGabriele Anderl\, Linda Erker\, Christoph Reinprecht (Hg.)\, Internment Refugee Camps. Historical and Contemporary Perspectives\, Bielefeld: Transcript 2023 \n
URL:https://www.strawanzerin.at/termin/nach-der-flucht-das-lager-buchpraesentation/
LOCATION:Depot – Kunst und Diskussion\, Breite Gasse 3\, Wien\, 1070\, Österreich
CATEGORIES:Deutsch,Gratis,Vortrag/Symposium,Wien
ATTACH;FMTTYPE=image/jpeg:https://www.strawanzerin.at/wp-content/uploads/2024/03/K1A7100_Logo_c_Bureau_Kies_cut-6-scaled.jpg
ORGANIZER;CN="Depot%20-%20Kunst%20und%20Diskussion":MAILTO:depot@depot.or.at
END:VEVENT
END:VCALENDAR