BEGIN:VCALENDAR
VERSION:2.0
PRODID:-//STRAWANZERIN - ECPv4.9.5//NONSGML v1.0//EN
CALSCALE:GREGORIAN
METHOD:PUBLISH
X-WR-CALNAME:STRAWANZERIN
X-ORIGINAL-URL:https://www.strawanzerin.at
X-WR-CALDESC:Veranstaltungen im STRAWANZERIN
BEGIN:VTIMEZONE
TZID:"Europe/Vienna"
BEGIN:DAYLIGHT
TZOFFSETFROM:+0100
TZOFFSETTO:+0200
TZNAME:CEST
DTSTART:20200329T010000
END:DAYLIGHT
BEGIN:STANDARD
TZOFFSETFROM:+0200
TZOFFSETTO:+0100
TZNAME:CET
DTSTART:20201025T010000
END:STANDARD
END:VTIMEZONE
BEGIN:VEVENT
DTSTART;TZID="Europe/Vienna":20200313T200000
DTEND;TZID="Europe/Vienna":20200313T200000
DTSTAMP:20260420T172949
CREATED:20200130T104910Z
LAST-MODIFIED:20200130T104910Z
UID:71664-1584129600-1584129600@www.strawanzerin.at
SUMMARY:NACH HAUSE
DESCRIPTION:NACH HAUSE \nUraufführung\nEin Chorstück nach „Draußen vor der Tür“ von Wolfgang Borchert\nEine Kooperation zwischen der MUK – Musik und Kunst Privatuniversität der Stadt Wien und dem TAG \nPREMIERE\nFR 13. MÄRZ 2020\, 20.00\nVorstellungen\nSa 14.\, Mo 16. und Di 17. März 2020\, 20.00 \n„Wo seid ihr denn alle? Gebt doch Antwort. Warum gibt denn keiner eine Antwort?““ \nEiner kommt nach Hause. Doch dieses „zu Hause“ ist die Fremde. Ohnmächtig steht er in einem Land\, das einmal seine Heimat war\, seine Heimat sein könnte\, doch nicht mehr sein will. Er ruft nach dem Tod\, nach Gott\, ruft nach sich\, streift durch Orte\, sucht Menschen\, eine Berührung. Ein Mensch ohne Namen\, doch mit Vergangenheit\, psychisch verwüstet und körperlich ruiniert. Er ist einer von denen\, die noch heute ein Zuhause suchen und nicht nach Hause kommen können\, weil für sie kein Zuhause mehr da ist. Denn das einzige Zuhause\, was sie erwartet\, ist und bleibt draußen\, vor der Tür. Also irrt der Mensch ohne Namen durch menschliche Trümmerlandschaften\, als ein verzweifelter Protest\, und schreit alles heraus\, gegen die Willkür\, das Schicksal\, den Tod und die aussichtslose Suche nach einer Heimat.\nEine Gruppe Schauspielstudierender begibt sich mit Borcherts Figur Beckmann auf die Suche nach einer Heimat ohne Namen. Als Chor sowie in einzelnen Stimmen versuchen die SpielerInnen\, Antworten zu finden in einer Zeit ohne Antworten. Wolfgang Borcherts Drama „Draußen vor der Tür“\, 1947 innerhalb von acht Tagen geschrieben\, wird zum Material für eine moderne Auseinandersetzung mit einem immer noch aktuellen Stoff. \nEs spielen Schauspielstudierende des 4. Jahrgangs der MUK — Musik und Kunst Privatuniversität der Stadt Wien\nRegie und Ausstattung Michael Keller\nTextfassung\, Dramaturgie\, Ausstattung\, Musikcollage Holger Kuhla \n
URL:https://www.strawanzerin.at/termin/nach-hause/2020-03-13/
LOCATION:TAG – Theater an der Gumpendorfer Straße\, Gumpendorfer Straße 67\, Wien\, Wien\, 1060\, Österreich
CATEGORIES:Theater/Kabarett
ATTACH;FMTTYPE=image/jpeg:https://www.strawanzerin.at/wp-content/uploads/2020/01/NACH_HAUSE_c_Daniel-Kastner.jpg
ORGANIZER;CN="TAG%20-%20Theater%20an%20der%20Gumpendorfer%20Stra%C3%9Fe":MAILTO:karten@dastag.at
GEO:48.1954875;16.3512933
X-APPLE-STRUCTURED-LOCATION;VALUE=URI;X-ADDRESS=TAG – Theater an der Gumpendorfer Straße Gumpendorfer Straße 67 Wien Wien 1060 Österreich;X-APPLE-RADIUS=500;X-TITLE=Gumpendorfer Straße 67:geo:16.3512933,48.1954875
END:VEVENT
END:VCALENDAR