BEGIN:VCALENDAR
VERSION:2.0
PRODID:-//STRAWANZERIN - ECPv4.9.5//NONSGML v1.0//EN
CALSCALE:GREGORIAN
METHOD:PUBLISH
X-WR-CALNAME:STRAWANZERIN
X-ORIGINAL-URL:https://www.strawanzerin.at
X-WR-CALDESC:Veranstaltungen im STRAWANZERIN
BEGIN:VTIMEZONE
TZID:"Europe/Paris"
BEGIN:DAYLIGHT
TZOFFSETFROM:+0100
TZOFFSETTO:+0200
TZNAME:CEST
DTSTART:20150329T010000
END:DAYLIGHT
BEGIN:STANDARD
TZOFFSETFROM:+0200
TZOFFSETTO:+0100
TZNAME:CET
DTSTART:20151025T010000
END:STANDARD
END:VTIMEZONE
BEGIN:VEVENT
DTSTART;TZID="Europe/Paris":20151022T160000
DTEND;TZID="Europe/Paris":20151022T210000
DTSTAMP:20260420T181033
CREATED:20150903T102756Z
LAST-MODIFIED:20150903T110720Z
UID:19563-1445529600-1445547600@www.strawanzerin.at
SUMMARY:Nach mir die Sintflut. Der KlimaSlam im C3. mit Yasmin Hafedh
DESCRIPTION:Im Rahmen der Aktion des Büchereiverbands Österreichs zum 10-jährigen Jubiläum von „Österreich liest. Treffpunkt Bibliothek“ unter dem Festivalmotto „Grenzenlos lesen“. \nMit ihren Texten sollen die PoetInnen die Ursachen des Klimawandels reflektierten\, Klimaschutz im Speziellen sowie das Verhältnis des Menschen zur Natur im Allgemeinen. Die Bandbreite kann von zornig-kritisch über nachdenklich bis hin zu humorvoll und heiter alles beinhalten. \nAm Nachmittag vor der Veranstaltung wird die Moderatorin Yasmin Hafedh einen zweistündigen Schreib-Workshop abhalten. Dieser ist ebenfalls öffentlich zugänglich\, ist aber auf max. 15 angemeldete Teilnehmende beschränkt. Beim „Spoken Word Workshop“ verraten die Profis\, wie man einen „Poetry Slam Text“ schreibt und worauf es beim Vortrag ankommt. Im Anschluss kann das Gelernte gleich umgesetzt werden: Beim Library Slam im C3 werden die Worte lebendig gemacht! \n› Einladung (pdf) \nProgramm: \n16.00-18.00: Schreib-Workshop mit Moderatorin Yasmin Hafedh. Beim „Spoken Word Workshop“ verraten die Profis\, wie man einen „Poetry Slam Text“ schreibt und worauf es beim Vortrag ankommt. Im Anschluss kann das Gelernte gleich umgesetzt werden: Beim Library Slam im C3 werden die Worte lebendig gemacht! (Achtung bitte anmelden: max. 15 TeilnehmerInnen) \n19.00-21.00: Nach mir die Sintflut. Der KlimaSlam im C3. Moderation: Yasmin Hafedh. Es gibt eine offene Liste für PoetInnen – bitte anmelden! \nAnmeldung: \n    Publikumsanmeldung Poetry Slam „Nach mir die Sintflut“: www.pfz.at/article1775.htm\n    Anmeldung für PoetInnen zur offenen Liste: office@pfz.at\n    Anmeldung für den Poetry Slam-Workshop mit Yasmin Hafedh: www.pfz.at/article1776.htm  \nKosten: Der Workshop und der Poetry Slam sind kostenlos!  \n
URL:https://www.strawanzerin.at/termin/nach-mir-die-sintflut-der-klimaslam-im-c3-mit-yasmin-hafedh/
LOCATION:Österreich
CATEGORIES:Deutsch,Gratis,Transnational,Wien,Workshop
ATTACH;FMTTYPE=:
ORGANIZER;CN="%C3%96FSE%2C%20Paulo%20Freire%20Zentrum%2C%20Baobab%2C%20Frauensolidarit%C3%A4t%2C%20Mattersburgerkreis%20f%C3%BCr%20Entwicklungspolitik":MAILTO:g.slezak@oefse.at
END:VEVENT
END:VCALENDAR