BEGIN:VCALENDAR
VERSION:2.0
PRODID:-//STRAWANZERIN - ECPv4.9.5//NONSGML v1.0//EN
CALSCALE:GREGORIAN
METHOD:PUBLISH
X-WR-CALNAME:STRAWANZERIN
X-ORIGINAL-URL:https://www.strawanzerin.at
X-WR-CALDESC:Veranstaltungen im STRAWANZERIN
BEGIN:VTIMEZONE
TZID:"Europe/Vienna"
BEGIN:DAYLIGHT
TZOFFSETFROM:+0100
TZOFFSETTO:+0200
TZNAME:CEST
DTSTART:20240331T010000
END:DAYLIGHT
BEGIN:STANDARD
TZOFFSETFROM:+0200
TZOFFSETTO:+0100
TZNAME:CET
DTSTART:20241027T010000
END:STANDARD
END:VTIMEZONE
BEGIN:VEVENT
DTSTART;TZID="Europe/Vienna":20240517T200000
DTEND;TZID="Europe/Vienna":20240517T220000
DTSTAMP:20260420T100659
CREATED:20240415T174943Z
LAST-MODIFIED:20240415T174943Z
UID:98028-1715976000-1715983200@www.strawanzerin.at
SUMMARY:Nadja Maleh "Bussi Bussi"
DESCRIPTION:Nadja Maleh\n„Bussi Bussi“\nEin Bussi ist was Feines. Zwei Bussis sind manchmal eines zu viel. \n(Bussi links\, Bussi rechts! *Umdreh* „Wer war das?“) \nDoch was ist eine Bussi Bussi – Gesellschaft ohne Bussis? Ist ein Bussi das Gegenteil von einer Kopfnuss und warum gibt es so viele Arten davon: aufs Bauchi\, aufs Auge\, auf die Wange\, aus der Ferne\, auf den Mund\, für zwischendurch …!? \nWie geht Nähe in Zeiten von Distancing und wer ist gefährlicher: Braunbär oder Bussi Bär? \nMachen virtuelle Bussis genauso glücklich wie echte? (Bitte ankreuzen): \n❏ Ja\n❏ Nein\n❏ Komm her und lass es uns herausfinden! \nEgal\, wie die Frage lautet: die Antwort heißt immer Bussi Bussi! \n
URL:https://www.strawanzerin.at/termin/nadja-maleh-bussi-bussi/
LOCATION:Papierfabrik Varieté\, Kirchenplatz 9\, Kleinneusiedl\, Niederösterreich\, 2431
CATEGORIES:Niederösterreich,Theater/Kabarett
ATTACH;FMTTYPE=image/jpeg:https://www.strawanzerin.at/wp-content/uploads/2024/04/Nadja_Maleh_Pressefoto_BussiBussi_C_Markus_Van_der_Man-scaled.jpg
ORGANIZER;CN="Papierfabrik%20Variet%C3%A9":MAILTO:info@papierfabrik-variete.com
END:VEVENT
END:VCALENDAR