BEGIN:VCALENDAR
VERSION:2.0
PRODID:-//STRAWANZERIN - ECPv4.9.5//NONSGML v1.0//EN
CALSCALE:GREGORIAN
METHOD:PUBLISH
X-WR-CALNAME:STRAWANZERIN
X-ORIGINAL-URL:https://www.strawanzerin.at
X-WR-CALDESC:Veranstaltungen im STRAWANZERIN
BEGIN:VTIMEZONE
TZID:"Europe/Helsinki"
BEGIN:DAYLIGHT
TZOFFSETFROM:+0200
TZOFFSETTO:+0300
TZNAME:EEST
DTSTART:20140330T010000
END:DAYLIGHT
BEGIN:STANDARD
TZOFFSETFROM:+0300
TZOFFSETTO:+0200
TZNAME:EET
DTSTART:20141026T010000
END:STANDARD
END:VTIMEZONE
BEGIN:VEVENT
DTSTART;TZID="Europe/Helsinki":20141030T163000
DTEND;TZID="Europe/Helsinki":20141030T210000
DTSTAMP:20260422T040518
CREATED:20141029T140449Z
LAST-MODIFIED:20141029T140449Z
UID:8356-1414686600-1414702800@www.strawanzerin.at
SUMMARY:Nähcafe-Klamottenkunst
DESCRIPTION:Packt eure zerrissenen Hosen\, langweiligen Shirts\, zu klein gewordenen Röcke ein und kommt ins Nähcafe!! Es wird repariert\, auf den Kopf gestellt\, auseinandergeschnitten und wieder zusammengefügt.\nVorkenntnisse sind nicht erforderlich. \nWorkshopleitung: Esther Weinberger \nKosten: €10/h\, Mitglieder €8h\, Sozialtarif €5\, Monatskarte €85/70/40 \nesther@klamottenkunst.at oder 0650 974 9959 \n
URL:https://www.strawanzerin.at/termin/naehcafe-klamottenkunst/2014-10-30/
LOCATION:Recycling Kosmos Zentrale\, Ottakringer Straße 63\, Wien\, Wien\, 1160\, Österreich
CATEGORIES:ab 7,Deutsch,Sonstiges,Wien,Workshop
ATTACH;FMTTYPE=image/jpeg:https://www.strawanzerin.at/wp-content/uploads/2014/10/Nähcafe2.jpeg
ORGANIZER;CN="Recycling%20Kosmos":MAILTO:workshops@recyclingkosmos.at
GEO:48.2137812;16.3298013
X-APPLE-STRUCTURED-LOCATION;VALUE=URI;X-ADDRESS=Recycling Kosmos Zentrale Ottakringer Straße 63 Wien Wien 1160 Österreich;X-APPLE-RADIUS=500;X-TITLE=Ottakringer Straße 63:geo:16.3298013,48.2137812
END:VEVENT
END:VCALENDAR