BEGIN:VCALENDAR
VERSION:2.0
PRODID:-//STRAWANZERIN - ECPv4.9.5//NONSGML v1.0//EN
CALSCALE:GREGORIAN
METHOD:PUBLISH
X-WR-CALNAME:STRAWANZERIN
X-ORIGINAL-URL:https://www.strawanzerin.at
X-WR-CALDESC:Veranstaltungen im STRAWANZERIN
BEGIN:VTIMEZONE
TZID:"Europe/Helsinki"
BEGIN:DAYLIGHT
TZOFFSETFROM:+0200
TZOFFSETTO:+0300
TZNAME:EEST
DTSTART:20150329T010000
END:DAYLIGHT
BEGIN:STANDARD
TZOFFSETFROM:+0300
TZOFFSETTO:+0200
TZNAME:EET
DTSTART:20151025T010000
END:STANDARD
END:VTIMEZONE
BEGIN:VEVENT
DTSTART;TZID="Europe/Helsinki":20150117T140000
DTEND;TZID="Europe/Helsinki":20150117T220000
DTSTAMP:20260423T105230
CREATED:20150112T110144Z
LAST-MODIFIED:20150120T120159Z
UID:10783-1421503200-1421532000@www.strawanzerin.at
SUMMARY:Nähen am Wochenende
DESCRIPTION:Abgelegte\, ungeliebte oder heißgeliebte nicht mehr tragbare Kleider werden zerschnitten\, verbunden – und neu-designt: aus ALT wird NEU!\nAuch für alle\, die einfach ihre Lieblingshose flicken möchten\, gibt es Unterstützung.\nVorkenntnisse an der Nähmaschine sind nicht erforderlich.\nDu kannst stundenweise vorbei kommen oder auch das gesamte Wochenende! \nAnmeldung unter(e-Mail und/oder Telefon): workshops@recyclingkosmos.at\nEsther Weinberger:\n0650 974 99 59 \n
URL:https://www.strawanzerin.at/termin/naehen-am-wochenende-3/
LOCATION:Recycling Kosmos Zentrale\, Ottakringer Straße 63\, Wien\, Wien\, 1160\, Österreich
CATEGORIES:ab 7,Deutsch,Sonstiges,Wien,Workshop
ATTACH;FMTTYPE=image/jpeg:https://www.strawanzerin.at/wp-content/uploads/2015/01/Nähmaschine.jpg
ORGANIZER;CN="Recycling%20Kosmos":MAILTO:workshops@recyclingkosmos.at
GEO:48.2137812;16.3298013
X-APPLE-STRUCTURED-LOCATION;VALUE=URI;X-ADDRESS=Recycling Kosmos Zentrale Ottakringer Straße 63 Wien Wien 1160 Österreich;X-APPLE-RADIUS=500;X-TITLE=Ottakringer Straße 63:geo:16.3298013,48.2137812
END:VEVENT
END:VCALENDAR